FILENAME: O4510746.SWS.1010763.tif
QUADRANGLE_NAME: LODGE GRASS
QUADRANT: SW
WEST_LONGITUDE: -107 22 30.00000
EAST_LONGITUDE: -107 18 45.00000
NORTH_LATITUDE: 45 18 45.00000
SOUTH_LATITUDE: 45 15 0.00000
PRODUCTION_DATE: 1999 6 10
RASTER_ORDER: LEFT_RIGHT/TOP_BOTTOM
BAND_ORGANIZATION: SINGLE FILE
BAND_CONTENT: BLACK&WHITE
BAND_CONTENT: UNDEFINED
BAND_CONTENT: UNDEFINED
BITS_PER_PIXEL: 8
SAMPLES_AND_LINES: 5758 7692
HORIZONTAL_DATUM: NAD83
HORIZONTAL_COORDINATE_SYSTEM: UTM
COORDINATE_ZONE: 13
HORIZONTAL_UNITS: METERS
HORIZONTAL_RESOLUTION: 1.00000
SECONDARY_HORIZONTAL_DATUM: NAD27
XY_ORIGIN: 313277.00000 5020711.00000
SECONDARY_XY_ORIGIN: 313322.25000 5020495.78300
NATION: US
NATION: "SCIENCE
STATE: MT
NW_QUAD_CORNER_XY: 313834.49100 5020410.08800
NE_QUAD_CORNER_XY: 318733.55700 5020267.53200
SE_QUAD_CORNERY_XY: 318534.32200 5013324.27900
SW_QUAD_CORNER_XY: 313629.86500 5013466.83800
SECONDARY_NW_QUAD_XY: 313828.95800 5020192.71200
SECONDARY_NE_QUAD_XY: 318728.16900 5020050.15100
SECONDARY_SE_QUAD_XY: 318528.93600 5013106.95000
SECONDARY_SW_QUAD_XY: 313624.33300 5013249.51300
RMSE_XY: 0.90000
IMAGE_SOURCE: BLACK AND WHITE FILM
SOURCE_IMAGE_ID: NAPP 9133 047
SOURCE_IMAGE_DATE: 1996 08 08
SOURCE_DEM_DATE: 1966 00 00
AGENCY: WESTERN MAPPING CENTER (WMC)
PRODUCER: UNDEFINED
PRODUCTION_SYSTEM: GIS/MAGIC
COMPRESSION: UNDEFINED
STANDARD_VERSION: 1996 12
METADATA_DATE: 1999 06 15
DATA_FILE_SIZE: 44296294
BYTE_COUNT: 5758
