FILENAME: O4510744.NES.1008704.tif
QUADRANGLE_NAME: SHICK RANCH
QUADRANT: NE
WEST_LONGITUDE: -107 33 45.00000
EAST_LONGITUDE: -107 30 0.00000
NORTH_LATITUDE: 45 22 30.00000
SOUTH_LATITUDE: 45 18 45.00000
PRODUCTION_DATE: 1999 4 23
RASTER_ORDER: LEFT_RIGHT/TOP_BOTTOM
BAND_ORGANIZATION: SINGLE FILE
BAND_CONTENT: BLACK&WHITE
BAND_CONTENT: UNDEFINED
BAND_CONTENT: UNDEFINED
BITS_PER_PIXEL: 8
SAMPLES_AND_LINES: 5770 7702
HORIZONTAL_DATUM: NAD83
HORIZONTAL_COORDINATE_SYSTEM: UTM
COORDINATE_ZONE: 13
HORIZONTAL_UNITS: METERS
HORIZONTAL_RESOLUTION: 1.00000
SECONDARY_HORIZONTAL_DATUM: NAD27
XY_ORIGIN: 298784.00000 5028104.00000
SECONDARY_XY_ORIGIN: 298829.21700 5027888.78500
NATION: US
NATION: "SCIENCE
STATE: MT
NW_QUAD_CORNER_XY: 299358.34800 5027803.89600
NE_QUAD_CORNER_XY: 304252.00900 5027649.92500
SE_QUAD_CORNERY_XY: 304036.36600 5020706.61900
SW_QUAD_CORNER_XY: 299137.30700 5020860.59400
SECONDARY_NW_QUAD_XY: 299352.37600 5027586.48200
SECONDARY_NE_QUAD_XY: 304246.18300 5027432.50600
SECONDARY_SE_QUAD_XY: 304030.54100 5020489.25100
SECONDARY_SW_QUAD_XY: 299131.33600 5020643.23000
RMSE_XY: 1.40000
IMAGE_SOURCE: BLACK AND WHITE FILM
SOURCE_IMAGE_ID: NAPP 9135 080
SOURCE_IMAGE_DATE: 1996 08 19
SOURCE_IMAGE_ID: NAPP 9135 103
SOURCE_IMAGE_DATE: 1996 08 19
SOURCE_IMAGE_ID: NAPP 9135 081
SOURCE_IMAGE_DATE: 1996 08 19
SOURCE_IMAGE_ID: NAPP 9135 078
SOURCE_IMAGE_DATE: 1996 08 19
SOURCE_DEM_DATE: 1956 00 00
AGENCY: WESTERN MAPPING CENTER (WMC)
PRODUCER: UNDEFINED
PRODUCTION_SYSTEM: GIS/MAGIC
COMPRESSION: UNDEFINED
STANDARD_VERSION: 1996 12
METADATA_DATE: 1999 06 02
DATA_FILE_SIZE: 44446310
BYTE_COUNT: 5770
