FILENAME: O4510744.SES.1008706.tif
QUADRANGLE_NAME: SHICK RANCH
QUADRANT: SE
WEST_LONGITUDE: -107 33 45.00000
EAST_LONGITUDE: -107 30 0.00000
NORTH_LATITUDE: 45 18 45.00000
SOUTH_LATITUDE: 45 15 0.00000
PRODUCTION_DATE: 1999 4 23
RASTER_ORDER: LEFT_RIGHT/TOP_BOTTOM
BAND_ORGANIZATION: SINGLE FILE
BAND_CONTENT: BLACK&WHITE
BAND_CONTENT: UNDEFINED
BAND_CONTENT: UNDEFINED
BITS_PER_PIXEL: 8
SAMPLES_AND_LINES: 5775 7703
HORIZONTAL_DATUM: NAD83
HORIZONTAL_COORDINATE_SYSTEM: UTM
COORDINATE_ZONE: 13
HORIZONTAL_UNITS: METERS
HORIZONTAL_RESOLUTION: 1.00000
SECONDARY_HORIZONTAL_DATUM: NAD27
XY_ORIGIN: 298563.00000 5021161.00000
SECONDARY_XY_ORIGIN: 298608.37900 5020945.95100
NATION: US
NATION: "SCIENCE
STATE: MT
NW_QUAD_CORNER_XY: 299137.30700 5020860.59400
NE_QUAD_CORNER_XY: 304036.36600 5020706.61900
SE_QUAD_CORNERY_XY: 303820.95700 5013763.37500
SW_QUAD_CORNER_XY: 298916.50600 5013917.35300
SECONDARY_NW_QUAD_XY: 299131.33600 5020643.23000
SECONDARY_NE_QUAD_XY: 304030.54100 5020489.25100
SECONDARY_SE_QUAD_XY: 303815.13400 5013546.05900
SECONDARY_SW_QUAD_XY: 298910.53700 5013700.04100
RMSE_XY: 1.30000
IMAGE_SOURCE: BLACK AND WHITE FILM
SOURCE_IMAGE_ID: NAPP 9135 082
SOURCE_IMAGE_DATE: 1996 08 19
SOURCE_IMAGE_ID: NAPP 9135 081
SOURCE_IMAGE_DATE: 1996 08 19
SOURCE_DEM_DATE: 1956 00 00
AGENCY: WESTERN MAPPING CENTER (WMC)
PRODUCER: UNDEFINED
PRODUCTION_SYSTEM: GIS/MAGIC
COMPRESSION: UNDEFINED
STANDARD_VERSION: 1996 12
METADATA_DATE: 1999 06 02
DATA_FILE_SIZE: 44490600
BYTE_COUNT: 5775
