FILENAME: O4510744.SWS.1008707.tif
QUADRANGLE_NAME: SHICK RANCH
QUADRANT: SW
WEST_LONGITUDE: -107 37 30.00000
EAST_LONGITUDE: -107 33 45.00000
NORTH_LATITUDE: 45 18 45.00000
SOUTH_LATITUDE: 45 15 0.00000
PRODUCTION_DATE: 1999 4 23
RASTER_ORDER: LEFT_RIGHT/TOP_BOTTOM
BAND_ORGANIZATION: SINGLE FILE
BAND_CONTENT: BLACK&WHITE
BAND_CONTENT: UNDEFINED
BAND_CONTENT: UNDEFINED
BITS_PER_PIXEL: 8
SAMPLES_AND_LINES: 5780 7707
HORIZONTAL_DATUM: NAD83
HORIZONTAL_COORDINATE_SYSTEM: UTM
COORDINATE_ZONE: 13
HORIZONTAL_UNITS: METERS
HORIZONTAL_RESOLUTION: 1.00000
SECONDARY_HORIZONTAL_DATUM: NAD27
XY_ORIGIN: 293659.00000 5021319.00000
SECONDARY_XY_ORIGIN: 293704.39200 5021104.01600
NATION: US
NATION: "SCIENCE
STATE: MT
NW_QUAD_CORNER_XY: 294238.25000 5021018.37500
NE_QUAD_CORNER_XY: 299137.30700 5020860.59400
SE_QUAD_CORNERY_XY: 298916.50600 5013917.35300
SW_QUAD_CORNER_XY: 294012.05600 5014075.13800
SECONDARY_NW_QUAD_XY: 294232.13400 5020801.01700
SECONDARY_NE_QUAD_XY: 299131.33600 5020643.23000
SECONDARY_SE_QUAD_XY: 298910.53700 5013700.04100
SECONDARY_SW_QUAD_XY: 294005.94200 5013857.83100
RMSE_XY: 1.60000
IMAGE_SOURCE: BLACK AND WHITE FILM
SOURCE_IMAGE_ID: NAPP 9135 101
SOURCE_IMAGE_DATE: 1996 08 19
SOURCE_IMAGE_ID: NAPP 9139 016
SOURCE_IMAGE_DATE: 1996 08 26
SOURCE_DEM_DATE: 1956 00 00
AGENCY: WESTERN MAPPING CENTER (WMC)
PRODUCER: UNDEFINED
PRODUCTION_SYSTEM: GIS/MAGIC
COMPRESSION: UNDEFINED
STANDARD_VERSION: 1996 12
METADATA_DATE: 1999 06 02
DATA_FILE_SIZE: 44552240
BYTE_COUNT: 5780
