FILENAME: O4510743.SES.1006853.tif
QUADRANGLE_NAME: MISSION COULEE
QUADRANT: SE
WEST_LONGITUDE: -107 41 15.00000
EAST_LONGITUDE: -107 37 30.00000
NORTH_LATITUDE: 45 18 45.00000
SOUTH_LATITUDE: 45 15 0.00000
PRODUCTION_DATE: 1999 4 23
RASTER_ORDER: LEFT_RIGHT/TOP_BOTTOM
BAND_ORGANIZATION: SINGLE FILE
BAND_CONTENT: BLACK&WHITE
BAND_CONTENT: UNDEFINED
BAND_CONTENT: UNDEFINED
BITS_PER_PIXEL: 8
SAMPLES_AND_LINES: 5786 7710
HORIZONTAL_DATUM: NAD83
HORIZONTAL_COORDINATE_SYSTEM: UTM
COORDINATE_ZONE: 13
HORIZONTAL_UNITS: METERS
HORIZONTAL_RESOLUTION: 1.00000
SECONDARY_HORIZONTAL_DATUM: NAD27
XY_ORIGIN: 288754.00000 5021480.00000
SECONDARY_XY_ORIGIN: 288799.40500 5021265.08000
NATION: US
NATION: "SCIENCE
STATE: MT
NW_QUAD_CORNER_XY: 289339.19600 5021179.96500
NE_QUAD_CORNER_XY: 294238.25000 5021018.37500
SE_QUAD_CORNERY_XY: 294012.05600 5014075.13800
SW_QUAD_CORNER_XY: 289107.60900 5014236.73000
SECONDARY_NW_QUAD_XY: 289332.93400 5020962.61100
SECONDARY_NE_QUAD_XY: 294232.13400 5020801.01700
SECONDARY_SE_QUAD_XY: 294005.94200 5013857.83100
SECONDARY_SW_QUAD_XY: 289101.34900 5014019.42800
RMSE_XY: 2.30000
IMAGE_SOURCE: BLACK AND WHITE FILM
SOURCE_IMAGE_ID: NAPP 9139 015
SOURCE_IMAGE_DATE: 1996 08 26
SOURCE_IMAGE_ID: NAPP 9139 067
SOURCE_IMAGE_DATE: 1996 08 26
SOURCE_IMAGE_ID: NAPP 9139 014
SOURCE_IMAGE_DATE: 1996 08 26
SOURCE_IMAGE_ID: NAPP 9139 016
SOURCE_IMAGE_DATE: 1996 08 26
SOURCE_IMAGE_ID: NAPP 9135 101
SOURCE_IMAGE_DATE: 1996 08 19
SOURCE_DEM_DATE: 1956 00 00
AGENCY: WESTERN MAPPING CENTER (WMC)
PRODUCER: UNDEFINED
PRODUCTION_SYSTEM: GIS/MAGIC
COMPRESSION: UNDEFINED
STANDARD_VERSION: 1996 12
METADATA_DATE: 1999 05 18
DATA_FILE_SIZE: 44615846
BYTE_COUNT: 5786
