FILENAME: O4510743.SWS.1006854.tif
QUADRANGLE_NAME: MISSION COULEE
QUADRANT: SW
WEST_LONGITUDE: -107 45 0.00000
EAST_LONGITUDE: -107 41 15.00000
NORTH_LATITUDE: 45 18 45.00000
SOUTH_LATITUDE: 45 15 0.00000
PRODUCTION_DATE: 1999 4 23
RASTER_ORDER: LEFT_RIGHT/TOP_BOTTOM
BAND_ORGANIZATION: SINGLE FILE
BAND_CONTENT: BLACK&WHITE
BAND_CONTENT: UNDEFINED
BAND_CONTENT: UNDEFINED
BITS_PER_PIXEL: 8
SAMPLES_AND_LINES: 5791 7714
HORIZONTAL_DATUM: NAD83
HORIZONTAL_COORDINATE_SYSTEM: UTM
COORDINATE_ZONE: 13
HORIZONTAL_UNITS: METERS
HORIZONTAL_RESOLUTION: 1.00000
SECONDARY_HORIZONTAL_DATUM: NAD27
XY_ORIGIN: 283850.00000 5021646.00000
SECONDARY_XY_ORIGIN: 283895.41800 5021431.14300
NATION: US
NATION: "SCIENCE
STATE: MT
NW_QUAD_CORNER_XY: 284440.14500 5021345.36200
NE_QUAD_CORNER_XY: 289339.19600 5021179.96500
SE_QUAD_CORNERY_XY: 289107.60900 5014236.73000
SW_QUAD_CORNER_XY: 284203.16400 5014402.13000
SECONDARY_NW_QUAD_XY: 284433.73700 5021128.01300
SECONDARY_NE_QUAD_XY: 289332.93400 5020962.61100
SECONDARY_SE_QUAD_XY: 289101.34900 5014019.42800
SECONDARY_SW_QUAD_XY: 284196.75800 5014184.83300
RMSE_XY: 1.50000
IMAGE_SOURCE: BLACK AND WHITE FILM
SOURCE_IMAGE_ID: NAPP 9139 067
SOURCE_IMAGE_DATE: 1996 08 26
SOURCE_IMAGE_ID: NAPP 9139 069
SOURCE_IMAGE_DATE: 1996 08 26
SOURCE_IMAGE_ID: NAPP 9139 066
SOURCE_IMAGE_DATE: 1996 08 26
SOURCE_DEM_DATE: 1956 00 00
AGENCY: WESTERN MAPPING CENTER (WMC)
PRODUCER: UNDEFINED
PRODUCTION_SYSTEM: GIS/MAGIC
COMPRESSION: UNDEFINED
STANDARD_VERSION: 1996 12
METADATA_DATE: 1999 05 18
DATA_FILE_SIZE: 44677565
BYTE_COUNT: 5791
