FILENAME: O4510742.NES.1006661.tif
QUADRANGLE_NAME: MOUNTAIN POCKET CREEK
QUADRANT: NE
WEST_LONGITUDE: -107 48 45.00000
EAST_LONGITUDE: -107 45 0.00000
NORTH_LATITUDE: 45 22 30.00000
SOUTH_LATITUDE: 45 18 45.00000
PRODUCTION_DATE: 1999 4 23
RASTER_ORDER: LEFT_RIGHT/TOP_BOTTOM
BAND_ORGANIZATION: SINGLE FILE
BAND_CONTENT: BLACK&WHITE
BAND_CONTENT: UNDEFINED
BAND_CONTENT: UNDEFINED
BITS_PER_PIXEL: 8
SAMPLES_AND_LINES: 5791 7718
HORIZONTAL_DATUM: NAD83
HORIZONTAL_COORDINATE_SYSTEM: UTM
COORDINATE_ZONE: 13
HORIZONTAL_UNITS: METERS
HORIZONTAL_RESOLUTION: 1.00000
SECONDARY_HORIZONTAL_DATUM: NAD27
XY_ORIGIN: 279188.00000 5028758.00000
SECONDARY_XY_ORIGIN: 279233.43000 5028543.12300
NATION: US
NATION: "SCIENCE
STATE: MT
NW_QUAD_CORNER_XY: 279783.73500 5028457.85200
NE_QUAD_CORNER_XY: 284677.38300 5028288.65100
SE_QUAD_CORNERY_XY: 284440.14500 5021345.36200
SW_QUAD_CORNER_XY: 279541.09600 5021514.56600
SECONDARY_NW_QUAD_XY: 279777.18000 5028240.45800
SECONDARY_NE_QUAD_XY: 284670.97400 5028071.25200
SECONDARY_SE_QUAD_XY: 284433.73700 5021128.01300
SECONDARY_SW_QUAD_XY: 279534.54300 5021297.22300
RMSE_XY: 1.70000
IMAGE_SOURCE: BLACK AND WHITE FILM
SOURCE_IMAGE_ID: NAPP 9139 088
SOURCE_IMAGE_DATE: 1996 08 26
SOURCE_IMAGE_ID: NAPP 9139 100
SOURCE_IMAGE_DATE: 1996 08 26
SOURCE_IMAGE_ID: NAPP 9139 087
SOURCE_IMAGE_DATE: 1996 08 26
SOURCE_DEM_DATE: 1980 00 00
AGENCY: WESTERN MAPPING CENTER (WMC)
PRODUCER: UNDEFINED
PRODUCTION_SYSTEM: GIS/MAGIC
COMPRESSION: UNDEFINED
STANDARD_VERSION: 1996 12
METADATA_DATE: 1999 05 18
DATA_FILE_SIZE: 44700729
BYTE_COUNT: 5791
