FILENAME: O4510742.NWS.1006662.tif
QUADRANGLE_NAME: MOUNTAIN POCKET CREEK
QUADRANT: NW
WEST_LONGITUDE: -107 52 30.00000
EAST_LONGITUDE: -107 48 45.00000
NORTH_LATITUDE: 45 22 30.00000
SOUTH_LATITUDE: 45 18 45.00000
PRODUCTION_DATE: 1999 4 23
RASTER_ORDER: LEFT_RIGHT/TOP_BOTTOM
BAND_ORGANIZATION: SINGLE FILE
BAND_CONTENT: BLACK&WHITE
BAND_CONTENT: UNDEFINED
BAND_CONTENT: UNDEFINED
BITS_PER_PIXEL: 8
SAMPLES_AND_LINES: 5797 7721
HORIZONTAL_DATUM: NAD83
HORIZONTAL_COORDINATE_SYSTEM: UTM
COORDINATE_ZONE: 13
HORIZONTAL_UNITS: METERS
HORIZONTAL_RESOLUTION: 1.00000
SECONDARY_HORIZONTAL_DATUM: NAD27
XY_ORIGIN: 274288.00000 5028931.00000
SECONDARY_XY_ORIGIN: 274333.48600 5028716.17900
NATION: US
NATION: "SCIENCE
STATE: MT
NW_QUAD_CORNER_XY: 274890.09000 5028630.86100
NE_QUAD_CORNER_XY: 279783.73500 5028457.85200
SE_QUAD_CORNERY_XY: 279541.09600 5021514.56600
SW_QUAD_CORNER_XY: 274642.05000 5021687.58000
SECONDARY_NW_QUAD_XY: 274883.38900 5028413.47200
SECONDARY_NE_QUAD_XY: 279777.18000 5028240.45800
SECONDARY_SE_QUAD_XY: 279534.54300 5021297.22300
SECONDARY_SW_QUAD_XY: 274635.35100 5021470.24100
RMSE_XY: 1.00000
IMAGE_SOURCE: BLACK AND WHITE FILM
SOURCE_IMAGE_ID: NAPP 9139 099
SOURCE_IMAGE_DATE: 1996 08 26
SOURCE_IMAGE_ID: NAPP 9139 100
SOURCE_IMAGE_DATE: 1996 08 26
SOURCE_IMAGE_ID: NAPP 9139 098
SOURCE_IMAGE_DATE: 1996 08 26
SOURCE_IMAGE_ID: NAPP 9139 088
SOURCE_IMAGE_DATE: 1996 08 26
SOURCE_DEM_DATE: 1980 00 00
AGENCY: WESTERN MAPPING CENTER (WMC)
PRODUCER: UNDEFINED
PRODUCTION_SYSTEM: GIS/MAGIC
COMPRESSION: UNDEFINED
STANDARD_VERSION: 1996 12
METADATA_DATE: 1999 05 18
DATA_FILE_SIZE: 44764434
BYTE_COUNT: 5797
