FILENAME: O4510742.SWS.1006664.tif
QUADRANGLE_NAME: MOUNTAIN POCKET CREEK
QUADRANT: SW
WEST_LONGITUDE: -107 52 30.00000
EAST_LONGITUDE: -107 48 45.00000
NORTH_LATITUDE: 45 18 45.00000
SOUTH_LATITUDE: 45 15 0.00000
PRODUCTION_DATE: 1999 4 23
RASTER_ORDER: LEFT_RIGHT/TOP_BOTTOM
BAND_ORGANIZATION: SINGLE FILE
BAND_CONTENT: BLACK&WHITE
BAND_CONTENT: UNDEFINED
BAND_CONTENT: UNDEFINED
BITS_PER_PIXEL: 8
SAMPLES_AND_LINES: 5802 7722
HORIZONTAL_DATUM: NAD83
HORIZONTAL_COORDINATE_SYSTEM: UTM
COORDINATE_ZONE: 13
HORIZONTAL_UNITS: METERS
HORIZONTAL_RESOLUTION: 1.00000
SECONDARY_HORIZONTAL_DATUM: NAD27
XY_ORIGIN: 274041.00000 5021988.00000
SECONDARY_XY_ORIGIN: 274086.49900 5021773.23000
NATION: US
NATION: "SCIENCE
STATE: MT
NW_QUAD_CORNER_XY: 274642.05000 5021687.58000
NE_QUAD_CORNER_XY: 279541.09600 5021514.56600
SE_QUAD_CORNERY_XY: 279298.72000 5014571.33900
SW_QUAD_CORNER_XY: 274394.27900 5014744.35600
SECONDARY_NW_QUAD_XY: 274635.35100 5021470.24100
SECONDARY_NE_QUAD_XY: 279534.54300 5021297.22300
SECONDARY_SE_QUAD_XY: 279292.16900 5014354.04700
SECONDARY_SW_QUAD_XY: 274387.58200 5014527.06900
RMSE_XY: 1.50000
IMAGE_SOURCE: BLACK AND WHITE FILM
SOURCE_IMAGE_ID: NAPP 9139 101
SOURCE_IMAGE_DATE: 1996 08 26
SOURCE_IMAGE_ID: NAPP 9139 086
SOURCE_IMAGE_DATE: 1996 08 26
SOURCE_DEM_DATE: 1980 00 00
AGENCY: WESTERN MAPPING CENTER (WMC)
PRODUCER: UNDEFINED
PRODUCTION_SYSTEM: GIS/MAGIC
COMPRESSION: UNDEFINED
STANDARD_VERSION: 1996 12
METADATA_DATE: 1999 05 18
DATA_FILE_SIZE: 44808846
BYTE_COUNT: 5802
