FILENAME: O4510741.SWS.927714.tif
QUADRANGLE_NAME: YELLOWTAIL DAM
QUADRANT: SW
WEST_LONGITUDE: -108 0 0.00000
EAST_LONGITUDE: -107 56 15.00000
NORTH_LATITUDE: 45 18 45.00000
SOUTH_LATITUDE: 45 15 0.00000
PRODUCTION_DATE: 1997 12 18
RASTER_ORDER: LEFT_RIGHT/TOP_BOTTOM
BAND_ORGANIZATION: SINGLE FILE
BAND_CONTENT: BLACK&WHITE
BAND_CONTENT: UNDEFINED
BAND_CONTENT: UNDEFINED
BITS_PER_PIXEL: 8
SAMPLES_AND_LINES: 5813 7730
HORIZONTAL_DATUM: NAD83
HORIZONTAL_COORDINATE_SYSTEM: UTM
COORDINATE_ZONE: 13
HORIZONTAL_UNITS: METERS
HORIZONTAL_RESOLUTION: 1.00000
SECONDARY_HORIZONTAL_DATUM: NAD27
XY_ORIGIN: 264232.00000 5022350.00000
SECONDARY_XY_ORIGIN: 264277.57200 5022135.31400
NATION: US
STATE: MT
NW_QUAD_CORNER_XY: 264844.03000 5022044.99000
NE_QUAD_CORNER_XY: 269743.07000 5021864.36000
SE_QUAD_CORNERY_XY: 269489.91000 5014921.14000
SW_QUAD_CORNER_XY: 264585.47000 5015101.78000
SECONDARY_NW_QUAD_XY: 264837.04000 5021827.66000
SECONDARY_NE_QUAD_XY: 269736.23000 5021647.03000
SECONDARY_SE_QUAD_XY: 269483.07000 5014703.86000
SECONDARY_SW_QUAD_XY: 264578.48000 5014884.50000
RMSE_XY: 2.40000
IMAGE_SOURCE: BLACK AND WHITE FILM
SOURCE_IMAGE_ID: NAPP 9151 41
SOURCE_IMAGE_DATE: 1996 9 11
SOURCE_IMAGE_ID: NAPP 9151 40
SOURCE_IMAGE_DATE: 1996 9 11
SOURCE_IMAGE_ID: NAPP 9151 42
SOURCE_IMAGE_DATE: 1996 9 11
SOURCE_DEM_DATE: 1997 12 18
AGENCY: WESTERN MAPPING CENTER (WMC)
PRODUCER: USDA FS GEOMETRONICS SERVICE CENTER
PRODUCTION_SYSTEM: DV2.6.3 10/9OV2.4 5/95
COMPRESSION: UNDEFINED
STANDARD_VERSION: 1996 12
METADATA_DATE: 1998 6 26
DATA_FILE_SIZE: 44940303
BYTE_COUNT: 5813
