FILENAME: O4510740.NES.1010679.tif
QUADRANGLE_NAME: THOMPSON CREEK
QUADRANT: NE
WEST_LONGITUDE: -107 3 45.00000
EAST_LONGITUDE: -107 0 0.00000
NORTH_LATITUDE: 45 30 0.00000
SOUTH_LATITUDE: 45 26 15.00000
PRODUCTION_DATE: 1999 6 8
RASTER_ORDER: LEFT_RIGHT/TOP_BOTTOM
BAND_ORGANIZATION: SINGLE FILE
BAND_CONTENT: BLACK&WHITE
BAND_CONTENT: UNDEFINED
BAND_CONTENT: UNDEFINED
BITS_PER_PIXEL: 8
SAMPLES_AND_LINES: 5712 7671
HORIZONTAL_DATUM: NAD83
HORIZONTAL_COORDINATE_SYSTEM: UTM
COORDINATE_ZONE: 13
HORIZONTAL_UNITS: METERS
HORIZONTAL_RESOLUTION: 1.00000
SECONDARY_HORIZONTAL_DATUM: NAD27
XY_ORIGIN: 338336.00000 5040866.00000
SECONDARY_XY_ORIGIN: 338379.47400 5040649.54100
NATION: US
NATION: "SCIENCE
STATE: MT
NW_QUAD_CORNER_XY: 338864.03200 5040565.54700
NE_QUAD_CORNER_XY: 343746.90700 5040442.02500
SE_QUAD_CORNERY_XY: 343574.05700 5033498.55900
SW_QUAD_CORNER_XY: 338685.77500 5033622.08400
SECONDARY_NW_QUAD_XY: 338859.22300 5040348.00000
SECONDARY_NE_QUAD_XY: 343742.24400 5040224.47500
SECONDARY_SE_QUAD_XY: 343569.39500 5033281.05800
SECONDARY_SW_QUAD_XY: 338680.96800 5033404.58700
RMSE_XY: 3.70000
IMAGE_SOURCE: BLACK AND WHITE FILM
SOURCE_IMAGE_ID: NAPP 9122 014
SOURCE_IMAGE_DATE: 1996 09 11
SOURCE_IMAGE_ID: NAPP 9122 015
SOURCE_IMAGE_DATE: 1996 09 11
SOURCE_IMAGE_ID: NAPP 9122 013
SOURCE_IMAGE_DATE: 1996 09 11
SOURCE_DEM_DATE: 1987 00 00
AGENCY: WESTERN MAPPING CENTER (WMC)
PRODUCER: UNDEFINED
PRODUCTION_SYSTEM: GIS/MAGIC
COMPRESSION: UNDEFINED
STANDARD_VERSION: 1996 12
METADATA_DATE: 1999 06 09
DATA_FILE_SIZE: 43822464
BYTE_COUNT: 5712
