FILENAME: O4510740.SES.1010681.tif
QUADRANGLE_NAME: THOMPSON CREEK
QUADRANT: SE
WEST_LONGITUDE: -107 3 45.00000
EAST_LONGITUDE: -107 0 0.00000
NORTH_LATITUDE: 45 26 15.00000
SOUTH_LATITUDE: 45 22 30.00000
PRODUCTION_DATE: 1999 6 8
RASTER_ORDER: LEFT_RIGHT/TOP_BOTTOM
BAND_ORGANIZATION: SINGLE FILE
BAND_CONTENT: BLACK&WHITE
BAND_CONTENT: UNDEFINED
BAND_CONTENT: UNDEFINED
BITS_PER_PIXEL: 8
SAMPLES_AND_LINES: 5719 7672
HORIZONTAL_DATUM: NAD83
HORIZONTAL_COORDINATE_SYSTEM: UTM
COORDINATE_ZONE: 13
HORIZONTAL_UNITS: METERS
HORIZONTAL_RESOLUTION: 1.00000
SECONDARY_HORIZONTAL_DATUM: NAD27
XY_ORIGIN: 338157.00000 5033923.00000
SECONDARY_XY_ORIGIN: 338200.80400 5033706.77000
NATION: US
NATION: "SCIENCE
STATE: MT
NW_QUAD_CORNER_XY: 338685.77500 5033622.08400
NE_QUAD_CORNER_XY: 343574.05700 5033498.55900
SE_QUAD_CORNERY_XY: 343401.39400 5026555.15900
SW_QUAD_CORNER_XY: 338507.71200 5026678.68800
SECONDARY_NW_QUAD_XY: 338680.96800 5033404.58700
SECONDARY_NE_QUAD_XY: 343569.39500 5033281.05800
SECONDARY_SE_QUAD_XY: 343396.73300 5026337.70800
SECONDARY_SW_QUAD_XY: 338502.90600 5026461.24100
RMSE_XY: 2.10000
IMAGE_SOURCE: BLACK AND WHITE FILM
SOURCE_IMAGE_ID: NAPP 9122 016
SOURCE_IMAGE_DATE: 1996 09 11
SOURCE_IMAGE_ID: NAPP 9122 017
SOURCE_IMAGE_DATE: 1996 09 11
SOURCE_IMAGE_ID: NAPP 9122 015
SOURCE_IMAGE_DATE: 1996 09 11
SOURCE_IMAGE_ID: NAPP 9099 026
SOURCE_IMAGE_DATE: 1996 07 14
SOURCE_IMAGE_ID: NAPP 9099 027
SOURCE_IMAGE_DATE: 1996 07 14
SOURCE_DEM_DATE: 1987 00 00
AGENCY: WESTERN MAPPING CENTER (WMC)
PRODUCER: UNDEFINED
PRODUCTION_SYSTEM: GIS/MAGIC
COMPRESSION: UNDEFINED
STANDARD_VERSION: 1996 12
METADATA_DATE: 1999 06 09
DATA_FILE_SIZE: 43881887
BYTE_COUNT: 5719
