FILENAME: O4510739.SWS.1010670.tif
QUADRANGLE_NAME: THOMPSON CREEK NW
QUADRANT: SW
WEST_LONGITUDE: -107 15 0.00000
EAST_LONGITUDE: -107 11 15.00000
NORTH_LATITUDE: 45 26 15.00000
SOUTH_LATITUDE: 45 22 30.00000
PRODUCTION_DATE: 1999 6 8
RASTER_ORDER: LEFT_RIGHT/TOP_BOTTOM
BAND_ORGANIZATION: SINGLE FILE
BAND_CONTENT: BLACK&WHITE
BAND_CONTENT: UNDEFINED
BAND_CONTENT: UNDEFINED
BITS_PER_PIXEL: 8
SAMPLES_AND_LINES: 5736 7683
HORIZONTAL_DATUM: NAD83
HORIZONTAL_COORDINATE_SYSTEM: UTM
COORDINATE_ZONE: 13
HORIZONTAL_UNITS: METERS
HORIZONTAL_RESOLUTION: 1.00000
SECONDARY_HORIZONTAL_DATUM: NAD27
XY_ORIGIN: 323475.00000 5034316.00000
SECONDARY_XY_ORIGIN: 323519.51300 5034100.20500
NATION: US
NATION: "SCIENCE
STATE: MT
NW_QUAD_CORNER_XY: 324020.94700 5034015.48600
NE_QUAD_CORNER_XY: 328909.22000 5033880.54700
SE_QUAD_CORNERY_XY: 328720.35500 5026937.15900
SW_QUAD_CORNER_XY: 323826.68100 5027072.10100
SECONDARY_NW_QUAD_XY: 324015.70300 5033798.00000
SECONDARY_NE_QUAD_XY: 328904.12100 5033663.05800
SECONDARY_SE_QUAD_XY: 328715.25800 5026719.71900
SECONDARY_SW_QUAD_XY: 323821.43700 5026854.66500
RMSE_XY: 1.30000
IMAGE_SOURCE: BLACK AND WHITE FILM
SOURCE_IMAGE_ID: NAPP 9098 026
SOURCE_IMAGE_DATE: 1996 07 14
SOURCE_IMAGE_ID: NAPP 9100 065
SOURCE_IMAGE_DATE: 1996 07 14
SOURCE_DEM_DATE: 1967 00 00
AGENCY: WESTERN MAPPING CENTER (WMC)
PRODUCER: UNDEFINED
PRODUCTION_SYSTEM: GIS/MAGIC
COMPRESSION: UNDEFINED
STANDARD_VERSION: 1996 12
METADATA_DATE: 1999 06 09
DATA_FILE_SIZE: 44075424
BYTE_COUNT: 5736
