FILENAME: O4510738.NES.1010655.tif
QUADRANGLE_NAME: LODGE GRASS NE
QUADRANT: NE
WEST_LONGITUDE: -107 18 45.00000
EAST_LONGITUDE: -107 15 0.00000
NORTH_LATITUDE: 45 30 0.00000
SOUTH_LATITUDE: 45 26 15.00000
PRODUCTION_DATE: 1999 6 7
RASTER_ORDER: LEFT_RIGHT/TOP_BOTTOM
BAND_ORGANIZATION: SINGLE FILE
BAND_CONTENT: BLACK&WHITE
BAND_CONTENT: UNDEFINED
BAND_CONTENT: UNDEFINED
BITS_PER_PIXEL: 8
SAMPLES_AND_LINES: 5736 7687
HORIZONTAL_DATUM: NAD83
HORIZONTAL_COORDINATE_SYSTEM: UTM
COORDINATE_ZONE: 13
HORIZONTAL_UNITS: METERS
HORIZONTAL_RESOLUTION: 1.00000
SECONDARY_HORIZONTAL_DATUM: NAD27
XY_ORIGIN: 318781.00000 5041398.00000
SECONDARY_XY_ORIGIN: 318825.32600 5041182.04200
NATION: US
NATION: "SCIENCE
STATE: MT
NW_QUAD_CORNER_XY: 319332.56200 5041097.67300
NE_QUAD_CORNER_XY: 324215.42500 5040958.93500
SE_QUAD_CORNERY_XY: 324020.94700 5034015.48600
SW_QUAD_CORNER_XY: 319132.67700 5034154.22900
SECONDARY_NW_QUAD_XY: 319327.17000 5040880.14300
SECONDARY_NE_QUAD_XY: 324210.17800 5040741.40000
SECONDARY_SE_QUAD_XY: 324015.70300 5033798.00000
SECONDARY_SW_QUAD_XY: 319127.28700 5033936.74700
RMSE_XY: 2.10000
IMAGE_SOURCE: BLACK AND WHITE FILM
SOURCE_IMAGE_ID: NAPP 9126 054
SOURCE_IMAGE_DATE: 1996 07 14
SOURCE_IMAGE_ID: NAPP 9126 056
SOURCE_IMAGE_DATE: 1996 07 14
SOURCE_IMAGE_ID: NAPP 9126 053
SOURCE_IMAGE_DATE: 1996 07 14
SOURCE_IMAGE_ID: NAPP 9098 028
SOURCE_IMAGE_DATE: 1996 07 14
SOURCE_DEM_DATE: 1967 00 00
AGENCY: WESTERN MAPPING CENTER (WMC)
PRODUCER: UNDEFINED
PRODUCTION_SYSTEM: GIS/MAGIC
COMPRESSION: UNDEFINED
STANDARD_VERSION: 1996 12
METADATA_DATE: 1999 06 09
DATA_FILE_SIZE: 44098368
BYTE_COUNT: 5736
