FILENAME: O4510737.SES.1010653.tif
QUADRANGLE_NAME: BENTEEN
QUADRANT: SE
WEST_LONGITUDE: -107 26 15.00000
EAST_LONGITUDE: -107 22 30.00000
NORTH_LATITUDE: 45 26 15.00000
SOUTH_LATITUDE: 45 22 30.00000
PRODUCTION_DATE: 1999 6 7
RASTER_ORDER: LEFT_RIGHT/TOP_BOTTOM
BAND_ORGANIZATION: SINGLE FILE
BAND_CONTENT: BLACK&WHITE
BAND_CONTENT: UNDEFINED
BAND_CONTENT: UNDEFINED
BITS_PER_PIXEL: 8
SAMPLES_AND_LINES: 5753 7695
HORIZONTAL_DATUM: NAD83
HORIZONTAL_COORDINATE_SYSTEM: UTM
COORDINATE_ZONE: 13
HORIZONTAL_UNITS: METERS
HORIZONTAL_RESOLUTION: 1.00000
SECONDARY_HORIZONTAL_DATUM: NAD27
XY_ORIGIN: 308793.00000 5034744.00000
SECONDARY_XY_ORIGIN: 308837.85300 5034528.42200
NATION: US
NATION: "SCIENCE
STATE: MT
NW_QUAD_CORNER_XY: 309356.14700 5034443.13200
NE_QUAD_CORNER_XY: 314244.41000 5034296.77800
SE_QUAD_CORNERY_XY: 314039.33900 5027353.40100
SW_QUAD_CORNER_XY: 309145.67300 5027499.76000
SECONDARY_NW_QUAD_XY: 309350.46500 5034225.65900
SECONDARY_NE_QUAD_XY: 314238.87400 5034079.30000
SECONDARY_SE_QUAD_XY: 314033.80500 5027135.97400
SECONDARY_SW_QUAD_XY: 309139.99200 5027282.33700
RMSE_XY: 1.00000
IMAGE_SOURCE: BLACK AND WHITE FILM
SOURCE_IMAGE_ID: NAPP 9133 171
SOURCE_IMAGE_DATE: 1996 08 08
SOURCE_IMAGE_ID: NAPP 9133 172
SOURCE_IMAGE_DATE: 1996 08 08
SOURCE_IMAGE_ID: NAPP 9133 170
SOURCE_IMAGE_DATE: 1996 08 08
SOURCE_DEM_DATE: 1967 00 00
AGENCY: WESTERN MAPPING CENTER (WMC)
PRODUCER: UNDEFINED
PRODUCTION_SYSTEM: GIS/MAGIC
COMPRESSION: UNDEFINED
STANDARD_VERSION: 1996 12
METADATA_DATE: 1999 06 09
DATA_FILE_SIZE: 44275088
BYTE_COUNT: 5753
