FILENAME: O4510736.SES.1008804.tif
QUADRANGLE_NAME: SAINT XAVIER NE
QUADRANT: SE
WEST_LONGITUDE: -107 33 45.00000
EAST_LONGITUDE: -107 30 0.00000
NORTH_LATITUDE: 45 26 15.00000
SOUTH_LATITUDE: 45 22 30.00000
PRODUCTION_DATE: 1999 4 21
RASTER_ORDER: LEFT_RIGHT/TOP_BOTTOM
BAND_ORGANIZATION: SINGLE FILE
BAND_CONTENT: BLACK&WHITE
BAND_CONTENT: UNDEFINED
BAND_CONTENT: UNDEFINED
BITS_PER_PIXEL: 8
SAMPLES_AND_LINES: 5763 7703
HORIZONTAL_DATUM: NAD83
HORIZONTAL_COORDINATE_SYSTEM: UTM
COORDINATE_ZONE: 13
HORIZONTAL_UNITS: METERS
HORIZONTAL_RESOLUTION: 1.00000
SECONDARY_HORIZONTAL_DATUM: NAD27
XY_ORIGIN: 299006.00000 5035048.00000
SECONDARY_XY_ORIGIN: 299051.05400 5034832.62000
NATION: US
NATION: "SCIENCE
STATE: MT
NW_QUAD_CORNER_XY: 299579.62900 5034747.25900
NE_QUAD_CORNER_XY: 304467.88600 5034593.29200
SE_QUAD_CORNERY_XY: 304252.00900 5027649.92500
SW_QUAD_CORNER_XY: 299358.34800 5027803.89600
SECONDARY_NW_QUAD_XY: 299573.65600 5034529.79500
SECONDARY_NE_QUAD_XY: 304462.05900 5034375.82400
SECONDARY_SE_QUAD_XY: 304246.18300 5027432.50600
SECONDARY_SW_QUAD_XY: 299352.37600 5027586.48200
RMSE_XY: 1.30000
IMAGE_SOURCE: BLACK AND WHITE FILM
SOURCE_IMAGE_ID: NAPP 9135 078
SOURCE_IMAGE_DATE: 1996 08 19
SOURCE_IMAGE_ID: NAPP 9135 080
SOURCE_IMAGE_DATE: 1996 08 19
SOURCE_IMAGE_ID: NAPP 9135 077
SOURCE_IMAGE_DATE: 1996 08 19
SOURCE_DEM_DATE: 1960 00 00
AGENCY: WESTERN MAPPING CENTER (WMC)
PRODUCER: UNDEFINED
PRODUCTION_SYSTEM: GIS/MAGIC
COMPRESSION: UNDEFINED
STANDARD_VERSION: 1996 12
METADATA_DATE: 1999 06 02
DATA_FILE_SIZE: 44398152
BYTE_COUNT: 5763
