FILENAME: O4510735.SWS.1006850.tif
QUADRANGLE_NAME: SAINT XAVIER
QUADRANT: SW
WEST_LONGITUDE: -107 45 0.00000
EAST_LONGITUDE: -107 41 15.00000
NORTH_LATITUDE: 45 26 15.00000
SOUTH_LATITUDE: 45 22 30.00000
PRODUCTION_DATE: 1999 4 21
RASTER_ORDER: LEFT_RIGHT/TOP_BOTTOM
BAND_ORGANIZATION: SINGLE FILE
BAND_CONTENT: BLACK&WHITE
BAND_CONTENT: UNDEFINED
BAND_CONTENT: UNDEFINED
BITS_PER_PIXEL: 8
SAMPLES_AND_LINES: 5781 7715
HORIZONTAL_DATUM: NAD83
HORIZONTAL_COORDINATE_SYSTEM: UTM
COORDINATE_ZONE: 13
HORIZONTAL_UNITS: METERS
HORIZONTAL_RESOLUTION: 1.00000
SECONDARY_HORIZONTAL_DATUM: NAD27
XY_ORIGIN: 284324.00000 5035533.00000
SECONDARY_XY_ORIGIN: 284369.31800 5035317.98800
NATION: US
NATION: "SCIENCE
STATE: MT
NW_QUAD_CORNER_XY: 284914.88000 5035232.00000
NE_QUAD_CORNER_XY: 289803.12600 5035066.61200
SE_QUAD_CORNERY_XY: 289571.03500 5028123.25900
SW_QUAD_CORNER_XY: 284677.38300 5028288.65100
SECONDARY_NW_QUAD_XY: 284908.46900 5035014.55100
SECONDARY_NE_QUAD_XY: 289796.86100 5034849.15800
SECONDARY_SE_QUAD_XY: 289564.77200 5027905.85400
SECONDARY_SW_QUAD_XY: 284670.97400 5028071.25200
RMSE_XY: 1.20000
IMAGE_SOURCE: BLACK AND WHITE FILM
SOURCE_IMAGE_ID: NAPP 9139 063
SOURCE_IMAGE_DATE: 1996 08 26
SOURCE_IMAGE_ID: NAPP 9139 064
SOURCE_IMAGE_DATE: 1996 08 26
SOURCE_IMAGE_ID: NAPP 9139 062
SOURCE_IMAGE_DATE: 1996 08 26
SOURCE_DEM_DATE: 1956 00 00
AGENCY: WESTERN MAPPING CENTER (WMC)
PRODUCER: UNDEFINED
PRODUCTION_SYSTEM: GIS/MAGIC
COMPRESSION: UNDEFINED
STANDARD_VERSION: 1996 12
METADATA_DATE: 1999 05 18
DATA_FILE_SIZE: 44606196
BYTE_COUNT: 5781
