FILENAME: O4510734.SES.1006744.tif
QUADRANGLE_NAME: LEMONADE SPRINGS
QUADRANT: SE
WEST_LONGITUDE: -107 48 45.00000
EAST_LONGITUDE: -107 45 0.00000
NORTH_LATITUDE: 45 26 15.00000
SOUTH_LATITUDE: 45 22 30.00000
PRODUCTION_DATE: 1999 4 21
RASTER_ORDER: LEFT_RIGHT/TOP_BOTTOM
BAND_ORGANIZATION: SINGLE FILE
BAND_CONTENT: BLACK&WHITE
BAND_CONTENT: UNDEFINED
BAND_CONTENT: UNDEFINED
BITS_PER_PIXEL: 8
SAMPLES_AND_LINES: 5786 7718
HORIZONTAL_DATUM: NAD83
HORIZONTAL_COORDINATE_SYSTEM: UTM
COORDINATE_ZONE: 13
HORIZONTAL_UNITS: METERS
HORIZONTAL_RESOLUTION: 1.00000
SECONDARY_HORIZONTAL_DATUM: NAD27
XY_ORIGIN: 279430.00000 5035702.00000
SECONDARY_XY_ORIGIN: 279475.39800 5035487.05800
NATION: US
NATION: "SCIENCE
STATE: MT
NW_QUAD_CORNER_XY: 280026.63700 5035401.19600
NE_QUAD_CORNER_XY: 284914.88000 5035232.00000
SE_QUAD_CORNERY_XY: 284677.38300 5028288.65100
SW_QUAD_CORNER_XY: 279783.73500 5028457.85200
SECONDARY_NW_QUAD_XY: 280020.08100 5035183.75200
SECONDARY_NE_QUAD_XY: 284908.46900 5035014.55100
SECONDARY_SE_QUAD_XY: 284670.97400 5028071.25200
SECONDARY_SW_QUAD_XY: 279777.18000 5028240.45800
RMSE_XY: 1.10000
IMAGE_SOURCE: BLACK AND WHITE FILM
SOURCE_IMAGE_ID: NAPP 9139 090
SOURCE_IMAGE_DATE: 1996 08 26
SOURCE_IMAGE_ID: NAPP 9139 089
SOURCE_IMAGE_DATE: 1996 08 26
SOURCE_DEM_DATE: 1969 00 00
AGENCY: WESTERN MAPPING CENTER (WMC)
PRODUCER: UNDEFINED
PRODUCTION_SYSTEM: GIS/MAGIC
COMPRESSION: UNDEFINED
STANDARD_VERSION: 1996 12
METADATA_DATE: 1999 05 18
DATA_FILE_SIZE: 44662134
BYTE_COUNT: 5786
