FILENAME: O4510734.SWS.1006746.tif
QUADRANGLE_NAME: LEMONADE SPRINGS
QUADRANT: SW
WEST_LONGITUDE: -107 52 30.00000
EAST_LONGITUDE: -107 48 45.00000
NORTH_LATITUDE: 45 26 15.00000
SOUTH_LATITUDE: 45 22 30.00000
PRODUCTION_DATE: 1999 4 21
RASTER_ORDER: LEFT_RIGHT/TOP_BOTTOM
BAND_ORGANIZATION: SINGLE FILE
BAND_CONTENT: BLACK&WHITE
BAND_CONTENT: UNDEFINED
BAND_CONTENT: UNDEFINED
BITS_PER_PIXEL: 8
SAMPLES_AND_LINES: 5792 7722
HORIZONTAL_DATUM: NAD83
HORIZONTAL_COORDINATE_SYSTEM: UTM
COORDINATE_ZONE: 13
HORIZONTAL_UNITS: METERS
HORIZONTAL_RESOLUTION: 1.00000
SECONDARY_HORIZONTAL_DATUM: NAD27
XY_ORIGIN: 274536.00000 5035875.00000
SECONDARY_XY_ORIGIN: 274581.47200 5035660.12900
NATION: US
NATION: "SCIENCE
STATE: MT
NW_QUAD_CORNER_XY: 275138.39900 5035574.20000
NE_QUAD_CORNER_XY: 280026.63700 5035401.19600
SE_QUAD_CORNERY_XY: 279783.73500 5028457.85200
SW_QUAD_CORNER_XY: 274890.09000 5028630.86100
SECONDARY_NW_QUAD_XY: 275131.69600 5035356.76100
SECONDARY_NE_QUAD_XY: 280020.08100 5035183.75200
SECONDARY_SE_QUAD_XY: 279777.18000 5028240.45800
SECONDARY_SW_QUAD_XY: 274883.38900 5028413.47200
RMSE_XY: 0.90000
IMAGE_SOURCE: BLACK AND WHITE FILM
SOURCE_IMAGE_ID: NAPP 9139 097
SOURCE_IMAGE_DATE: 1996 08 26
SOURCE_IMAGE_ID: NAPP 9139 098
SOURCE_IMAGE_DATE: 1996 08 26
SOURCE_DEM_DATE: 1969 00 00
AGENCY: WESTERN MAPPING CENTER (WMC)
PRODUCER: UNDEFINED
PRODUCTION_SYSTEM: GIS/MAGIC
COMPRESSION: UNDEFINED
STANDARD_VERSION: 1996 12
METADATA_DATE: 1999 05 18
DATA_FILE_SIZE: 44731616
BYTE_COUNT: 5792
