FILENAME: O4510733.NES.1006503.tif
QUADRANGLE_NAME: CAMP FOUR
QUADRANT: NE
WEST_LONGITUDE: -107 56 15.00000
EAST_LONGITUDE: -107 52 30.00000
NORTH_LATITUDE: 45 30 0.00000
SOUTH_LATITUDE: 45 26 15.00000
PRODUCTION_DATE: 1999 4 21
RASTER_ORDER: LEFT_RIGHT/TOP_BOTTOM
BAND_ORGANIZATION: SINGLE FILE
BAND_CONTENT: BLACK&WHITE
BAND_CONTENT: UNDEFINED
BAND_CONTENT: UNDEFINED
BITS_PER_PIXEL: 8
SAMPLES_AND_LINES: 5792 7726
HORIZONTAL_DATUM: NAD83
HORIZONTAL_COORDINATE_SYSTEM: UTM
COORDINATE_ZONE: 13
HORIZONTAL_UNITS: METERS
HORIZONTAL_RESOLUTION: 1.00000
SECONDARY_HORIZONTAL_DATUM: NAD27
XY_ORIGIN: 269896.00000 5042995.00000
SECONDARY_XY_ORIGIN: 269941.55400 5042780.16500
NATION: US
NATION: "SCIENCE
STATE: MT
NW_QUAD_CORNER_XY: 270504.15500 5042694.40200
NE_QUAD_CORNER_XY: 275386.97700 5042517.59500
SE_QUAD_CORNERY_XY: 275138.39900 5035574.20000
SW_QUAD_CORNER_XY: 270250.16400 5035751.01200
SECONDARY_NW_QUAD_XY: 270497.30500 5042476.91900
SECONDARY_NE_QUAD_XY: 275380.27300 5042300.10700
SECONDARY_SE_QUAD_XY: 275131.69600 5035356.76100
SECONDARY_SW_QUAD_XY: 270243.31600 5035533.57800
RMSE_XY: 0.90000
IMAGE_SOURCE: BLACK AND WHITE FILM
SOURCE_IMAGE_ID: NAPP 9139 125
SOURCE_IMAGE_DATE: 1996 08 26
SOURCE_DEM_DATE: 1969 00 00
AGENCY: WESTERN MAPPING CENTER (WMC)
PRODUCER: UNDEFINED
PRODUCTION_SYSTEM: GIS/MAGIC
COMPRESSION: UNDEFINED
STANDARD_VERSION: 1996 12
METADATA_DATE: 1999 05 18
DATA_FILE_SIZE: 44754784
BYTE_COUNT: 5792
