FILENAME: O4510733.SES.1006505.tif
QUADRANGLE_NAME: CAMP FOUR
QUADRANT: SE
WEST_LONGITUDE: -107 56 15.00000
EAST_LONGITUDE: -107 52 30.00000
NORTH_LATITUDE: 45 26 15.00000
SOUTH_LATITUDE: 45 22 30.00000
PRODUCTION_DATE: 1999 4 21
RASTER_ORDER: LEFT_RIGHT/TOP_BOTTOM
BAND_ORGANIZATION: SINGLE FILE
BAND_CONTENT: BLACK&WHITE
BAND_CONTENT: UNDEFINED
BAND_CONTENT: UNDEFINED
BITS_PER_PIXEL: 8
SAMPLES_AND_LINES: 5797 7726
HORIZONTAL_DATUM: NAD83
HORIZONTAL_COORDINATE_SYSTEM: UTM
COORDINATE_ZONE: 13
HORIZONTAL_UNITS: METERS
HORIZONTAL_RESOLUTION: 1.00000
SECONDARY_HORIZONTAL_DATUM: NAD27
XY_ORIGIN: 269643.00000 5036052.00000
SECONDARY_XY_ORIGIN: 269688.54700 5035837.20000
NATION: US
NATION: "SCIENCE
STATE: MT
NW_QUAD_CORNER_XY: 270250.16400 5035751.01200
NE_QUAD_CORNER_XY: 275138.39900 5035574.20000
SE_QUAD_CORNERY_XY: 274890.09000 5028630.86100
SW_QUAD_CORNER_XY: 269996.44800 5028807.67900
SECONDARY_NW_QUAD_XY: 270243.31600 5035533.57800
SECONDARY_NE_QUAD_XY: 275131.69600 5035356.76100
SECONDARY_SE_QUAD_XY: 274883.38900 5028413.47200
SECONDARY_SW_QUAD_XY: 269989.60100 5028590.29500
RMSE_XY: 0.90000
IMAGE_SOURCE: BLACK AND WHITE FILM
SOURCE_IMAGE_ID: NAPP 9139 123
SOURCE_IMAGE_DATE: 1996 08 26
SOURCE_IMAGE_ID: NAPP 9139 122
SOURCE_IMAGE_DATE: 1996 08 26
SOURCE_IMAGE_ID: NAPP 9139 124
SOURCE_IMAGE_DATE: 1996 08 26
SOURCE_IMAGE_ID: NAPP 9139 125
SOURCE_IMAGE_DATE: 1996 08 26
SOURCE_IMAGE_ID: NAPP 9139 097
SOURCE_IMAGE_DATE: 1996 08 26
SOURCE_DEM_DATE: 1969 00 00
AGENCY: WESTERN MAPPING CENTER (WMC)
PRODUCER: UNDEFINED
PRODUCTION_SYSTEM: GIS/MAGIC
COMPRESSION: UNDEFINED
STANDARD_VERSION: 1996 12
METADATA_DATE: 1999 05 18
DATA_FILE_SIZE: 44793419
BYTE_COUNT: 5797
