FILENAME: O4510733.SWS.1006506.tif
QUADRANGLE_NAME: CAMP FOUR
QUADRANT: SW
WEST_LONGITUDE: -108 0 0.00000
EAST_LONGITUDE: -107 56 15.00000
NORTH_LATITUDE: 45 26 15.00000
SOUTH_LATITUDE: 45 22 30.00000
PRODUCTION_DATE: 1999 4 21
RASTER_ORDER: LEFT_RIGHT/TOP_BOTTOM
BAND_ORGANIZATION: SINGLE FILE
BAND_CONTENT: BLACK&WHITE
BAND_CONTENT: UNDEFINED
BAND_CONTENT: UNDEFINED
BITS_PER_PIXEL: 8
SAMPLES_AND_LINES: 5803 7729
HORIZONTAL_DATUM: NAD83
HORIZONTAL_COORDINATE_SYSTEM: UTM
COORDINATE_ZONE: 13
HORIZONTAL_UNITS: METERS
HORIZONTAL_RESOLUTION: 1.00000
SECONDARY_HORIZONTAL_DATUM: NAD27
XY_ORIGIN: 264749.00000 5036232.00000
SECONDARY_XY_ORIGIN: 264794.62300 5036017.27000
NATION: US
NATION: "SCIENCE
STATE: MT
NW_QUAD_CORNER_XY: 265361.93400 5035931.63400
NE_QUAD_CORNER_XY: 270250.16400 5035751.01200
SE_QUAD_CORNERY_XY: 269996.44800 5028807.67900
SW_QUAD_CORNER_XY: 265102.81000 5028988.30600
SECONDARY_NW_QUAD_XY: 265354.94000 5035714.20500
SECONDARY_NE_QUAD_XY: 270243.31600 5035533.57800
SECONDARY_SE_QUAD_XY: 269989.60100 5028590.29500
SECONDARY_SW_QUAD_XY: 265095.81700 5028770.92700
RMSE_XY: 1.30000
IMAGE_SOURCE: BLACK AND WHITE FILM
SOURCE_IMAGE_ID: NAPP 9151 037
SOURCE_IMAGE_DATE: 1996 09 11
SOURCE_IMAGE_ID: NAPP 9151 035
SOURCE_IMAGE_DATE: 1996 09 11
SOURCE_DEM_DATE: 1969 00 00
AGENCY: WESTERN MAPPING CENTER (WMC)
PRODUCER: UNDEFINED
PRODUCTION_SYSTEM: GIS/MAGIC
COMPRESSION: UNDEFINED
STANDARD_VERSION: 1996 12
METADATA_DATE: 1999 05 18
DATA_FILE_SIZE: 44857190
BYTE_COUNT: 5803
