FILENAME: O4510732.NES.1010362.tif
QUADRANGLE_NAME: JEANS FORK SE
QUADRANT: NE
WEST_LONGITUDE: -107 3 45.00000
EAST_LONGITUDE: -107 0 0.00000
NORTH_LATITUDE: 45 37 30.00000
SOUTH_LATITUDE: 45 33 45.00000
PRODUCTION_DATE: 1999 6 7
RASTER_ORDER: LEFT_RIGHT/TOP_BOTTOM
BAND_ORGANIZATION: SINGLE FILE
BAND_CONTENT: BLACK&WHITE
BAND_CONTENT: UNDEFINED
BAND_CONTENT: UNDEFINED
BITS_PER_PIXEL: 8
SAMPLES_AND_LINES: 5702 7671
HORIZONTAL_DATUM: NAD83
HORIZONTAL_COORDINATE_SYSTEM: UTM
COORDINATE_ZONE: 13
HORIZONTAL_UNITS: METERS
HORIZONTAL_RESOLUTION: 1.00000
SECONDARY_HORIZONTAL_DATUM: NAD27
XY_ORIGIN: 338693.00000 5054753.00000
SECONDARY_XY_ORIGIN: 338735.78900 5054536.04800
NATION: US
NATION: "SCIENCE
STATE: MT
NW_QUAD_CORNER_XY: 339221.12300 5054452.67100
NE_QUAD_CORNER_XY: 344093.16900 5054329.15900
SE_QUAD_CORNERY_XY: 343919.94500 5047385.55900
SW_QUAD_CORNER_XY: 339042.48100 5047509.07500
SECONDARY_NW_QUAD_XY: 339216.31200 5054235.02800
SECONDARY_NE_QUAD_XY: 344088.50300 5054111.51400
SECONDARY_SE_QUAD_XY: 343915.28000 5047167.96000
SECONDARY_SW_QUAD_XY: 339037.67100 5047291.48100
RMSE_XY: 2.50000
IMAGE_SOURCE: BLACK AND WHITE FILM
SOURCE_IMAGE_ID: NAPP 9122 010
SOURCE_IMAGE_DATE: 1996 09 11
SOURCE_IMAGE_ID: NAPP 9099 187
SOURCE_IMAGE_DATE: 1996 07 14
SOURCE_IMAGE_ID: NAPP 9122 012
SOURCE_IMAGE_DATE: 1996 09 11
SOURCE_IMAGE_ID: NAPP 9122 009
SOURCE_IMAGE_DATE: 1996 09 11
SOURCE_IMAGE_ID: NAPP 9099 033
SOURCE_IMAGE_DATE: 1996 07 14
SOURCE_DEM_DATE: 1987 00 00
AGENCY: WESTERN MAPPING CENTER (WMC)
PRODUCER: UNDEFINED
PRODUCTION_SYSTEM: GIS/MAGIC
COMPRESSION: UNDEFINED
STANDARD_VERSION: 1996 12
METADATA_DATE: 1999 06 14
DATA_FILE_SIZE: 43745744
BYTE_COUNT: 5702
