FILENAME: O4510732.SES.1010364.tif
QUADRANGLE_NAME: JEANS FORK SE
QUADRANT: SE
WEST_LONGITUDE: -107 3 45.00000
EAST_LONGITUDE: -107 0 0.00000
NORTH_LATITUDE: 45 33 45.00000
SOUTH_LATITUDE: 45 30 0.00000
PRODUCTION_DATE: 1999 6 7
RASTER_ORDER: LEFT_RIGHT/TOP_BOTTOM
BAND_ORGANIZATION: SINGLE FILE
BAND_CONTENT: BLACK&WHITE
BAND_CONTENT: UNDEFINED
BAND_CONTENT: UNDEFINED
BITS_PER_PIXEL: 8
SAMPLES_AND_LINES: 5707 7671
HORIZONTAL_DATUM: NAD83
HORIZONTAL_COORDINATE_SYSTEM: UTM
COORDINATE_ZONE: 13
HORIZONTAL_UNITS: METERS
HORIZONTAL_RESOLUTION: 1.00000
SECONDARY_HORIZONTAL_DATUM: NAD27
XY_ORIGIN: 338514.00000 5047810.00000
SECONDARY_XY_ORIGIN: 338557.13100 5047593.29600
NATION: US
NATION: "SCIENCE
STATE: MT
NW_QUAD_CORNER_XY: 339042.48100 5047509.07500
NE_QUAD_CORNER_XY: 343919.94500 5047385.55900
SE_QUAD_CORNERY_XY: 343746.90700 5040442.02500
SW_QUAD_CORNER_XY: 338864.03200 5040565.54700
SECONDARY_NW_QUAD_XY: 339037.67100 5047291.48100
SECONDARY_NE_QUAD_XY: 343915.28000 5047167.96000
SECONDARY_SE_QUAD_XY: 343742.24400 5040224.47500
SECONDARY_SW_QUAD_XY: 338859.22300 5040348.00000
RMSE_XY: 1.50000
IMAGE_SOURCE: BLACK AND WHITE FILM
SOURCE_IMAGE_ID: NAPP 9122 012
SOURCE_IMAGE_DATE: 1996 09 11
SOURCE_IMAGE_ID: NAPP 9122 014
SOURCE_IMAGE_DATE: 1996 09 11
SOURCE_IMAGE_ID: NAPP 9122 013
SOURCE_IMAGE_DATE: 1996 09 11
SOURCE_IMAGE_ID: NAPP 9122 011
SOURCE_IMAGE_DATE: 1996 09 11
SOURCE_DEM_DATE: 1987 00 00
AGENCY: WESTERN MAPPING CENTER (WMC)
PRODUCER: UNDEFINED
PRODUCTION_SYSTEM: GIS/MAGIC
COMPRESSION: UNDEFINED
STANDARD_VERSION: 1996 12
METADATA_DATE: 1999 06 14
DATA_FILE_SIZE: 43784104
BYTE_COUNT: 5707
