FILENAME: O4510732.SWS.1010365.tif
QUADRANGLE_NAME: JEANS FORK SE
QUADRANT: SW
WEST_LONGITUDE: -107 7 30.00000
EAST_LONGITUDE: -107 3 45.00000
NORTH_LATITUDE: 45 33 45.00000
SOUTH_LATITUDE: 45 30 0.00000
PRODUCTION_DATE: 1999 6 7
RASTER_ORDER: LEFT_RIGHT/TOP_BOTTOM
BAND_ORGANIZATION: SINGLE FILE
BAND_CONTENT: BLACK&WHITE
BAND_CONTENT: UNDEFINED
BAND_CONTENT: UNDEFINED
BITS_PER_PIXEL: 8
SAMPLES_AND_LINES: 5713 7675
HORIZONTAL_DATUM: NAD83
HORIZONTAL_COORDINATE_SYSTEM: UTM
COORDINATE_ZONE: 13
HORIZONTAL_UNITS: METERS
HORIZONTAL_RESOLUTION: 1.00000
SECONDARY_HORIZONTAL_DATUM: NAD27
XY_ORIGIN: 333631.00000 5047937.00000
SECONDARY_XY_ORIGIN: 333674.37200 5047720.42200
NATION: US
NATION: "SCIENCE
STATE: MT
NW_QUAD_CORNER_XY: 334165.02100 5047636.39600
NE_QUAD_CORNER_XY: 339042.48100 5047509.07500
SE_QUAD_CORNERY_XY: 338864.03200 5040565.54700
SW_QUAD_CORNER_XY: 333981.15900 5040692.87200
SECONDARY_NW_QUAD_XY: 334160.06500 5047418.80500
SECONDARY_NE_QUAD_XY: 339037.67100 5047291.48100
SECONDARY_SE_QUAD_XY: 338859.22300 5040348.00000
SECONDARY_SW_QUAD_XY: 333976.20500 5040475.32900
RMSE_XY: 1.50000
IMAGE_SOURCE: BLACK AND WHITE FILM
SOURCE_IMAGE_ID: NAPP 9099 185
SOURCE_IMAGE_DATE: 1996 07 14
SOURCE_IMAGE_ID: NAPP 9100 060
SOURCE_IMAGE_DATE: 1996 07 14
SOURCE_IMAGE_ID: NAPP 9099 184
SOURCE_IMAGE_DATE: 1996 07 14
SOURCE_IMAGE_ID: NAPP 9099 186
SOURCE_IMAGE_DATE: 1996 07 14
SOURCE_DEM_DATE: 1987 00 00
AGENCY: WESTERN MAPPING CENTER (WMC)
PRODUCER: UNDEFINED
PRODUCTION_SYSTEM: GIS/MAGIC
COMPRESSION: UNDEFINED
STANDARD_VERSION: 1996 12
METADATA_DATE: 1999 06 14
DATA_FILE_SIZE: 43852988
BYTE_COUNT: 5713
