FILENAME: O4510731.NES.1010358.tif
QUADRANGLE_NAME: JEANS FORK SW
QUADRANT: NE
WEST_LONGITUDE: -107 11 15.00000
EAST_LONGITUDE: -107 7 30.00000
NORTH_LATITUDE: 45 37 30.00000
SOUTH_LATITUDE: 45 33 45.00000
PRODUCTION_DATE: 1999 6 7
RASTER_ORDER: LEFT_RIGHT/TOP_BOTTOM
BAND_ORGANIZATION: SINGLE FILE
BAND_CONTENT: BLACK&WHITE
BAND_CONTENT: UNDEFINED
BAND_CONTENT: UNDEFINED
BITS_PER_PIXEL: 8
SAMPLES_AND_LINES: 5714 7679
HORIZONTAL_DATUM: NAD83
HORIZONTAL_COORDINATE_SYSTEM: UTM
COORDINATE_ZONE: 13
HORIZONTAL_UNITS: METERS
HORIZONTAL_RESOLUTION: 1.00000
SECONDARY_HORIZONTAL_DATUM: NAD27
XY_ORIGIN: 328937.00000 5055012.00000
SECONDARY_XY_ORIGIN: 328980.27300 5054795.27000
NATION: US
NATION: "SCIENCE
STATE: MT
NW_QUAD_CORNER_XY: 329477.04300 5054711.10400
NE_QUAD_CORNER_XY: 334349.08100 5054579.98500
SE_QUAD_CORNERY_XY: 334165.02100 5047636.39600
SW_QUAD_CORNER_XY: 329287.56500 5047767.52000
SECONDARY_NW_QUAD_XY: 329471.94000 5054493.46900
SECONDARY_NE_QUAD_XY: 334344.12400 5054362.34700
SECONDARY_SE_QUAD_XY: 334160.06500 5047418.80500
SECONDARY_SW_QUAD_XY: 329282.46300 5047549.93300
RMSE_XY: 1.70000
IMAGE_SOURCE: BLACK AND WHITE FILM
SOURCE_IMAGE_ID: NAPP 9100 058
SOURCE_IMAGE_DATE: 1996 07 14
SOURCE_IMAGE_ID: NAPP 9100 056
SOURCE_IMAGE_DATE: 1996 07 14
SOURCE_DEM_DATE: 1967 00 00
AGENCY: WESTERN MAPPING CENTER (WMC)
PRODUCER: UNDEFINED
PRODUCTION_SYSTEM: GIS/MAGIC
COMPRESSION: UNDEFINED
STANDARD_VERSION: 1996 12
METADATA_DATE: 1999 06 14
DATA_FILE_SIZE: 43883520
BYTE_COUNT: 5714
