FILENAME: O4510731.SES.1010360.tif
QUADRANGLE_NAME: JEANS FORK SW
QUADRANT: SE
WEST_LONGITUDE: -107 11 15.00000
EAST_LONGITUDE: -107 7 30.00000
NORTH_LATITUDE: 45 33 45.00000
SOUTH_LATITUDE: 45 30 0.00000
PRODUCTION_DATE: 1999 6 7
RASTER_ORDER: LEFT_RIGHT/TOP_BOTTOM
BAND_ORGANIZATION: SINGLE FILE
BAND_CONTENT: BLACK&WHITE
BAND_CONTENT: UNDEFINED
BAND_CONTENT: UNDEFINED
BITS_PER_PIXEL: 8
SAMPLES_AND_LINES: 5719 7679
HORIZONTAL_DATUM: NAD83
HORIZONTAL_COORDINATE_SYSTEM: UTM
COORDINATE_ZONE: 13
HORIZONTAL_UNITS: METERS
HORIZONTAL_RESOLUTION: 1.00000
SECONDARY_HORIZONTAL_DATUM: NAD27
XY_ORIGIN: 328748.00000 5048068.00000
SECONDARY_XY_ORIGIN: 328791.61400 5047851.54800
NATION: US
NATION: "SCIENCE
STATE: MT
NW_QUAD_CORNER_XY: 329287.56500 5047767.52000
NE_QUAD_CORNER_XY: 334165.02100 5047636.39600
SE_QUAD_CORNERY_XY: 333981.15900 5040692.87200
SW_QUAD_CORNER_XY: 329098.29000 5040824.00100
SECONDARY_NW_QUAD_XY: 329282.46300 5047549.93300
SECONDARY_NE_QUAD_XY: 334160.06500 5047418.80500
SECONDARY_SE_QUAD_XY: 333976.20500 5040475.32900
SECONDARY_SW_QUAD_XY: 329093.19000 5040606.46200
RMSE_XY: 1.90000
IMAGE_SOURCE: BLACK AND WHITE FILM
SOURCE_IMAGE_ID: NAPP 9100 060
SOURCE_IMAGE_DATE: 1996 07 14
SOURCE_IMAGE_ID: NAPP 9099 184
SOURCE_IMAGE_DATE: 1996 07 14
SOURCE_DEM_DATE: 1967 00 00
AGENCY: WESTERN MAPPING CENTER (WMC)
PRODUCER: UNDEFINED
PRODUCTION_SYSTEM: GIS/MAGIC
COMPRESSION: UNDEFINED
STANDARD_VERSION: 1996 12
METADATA_DATE: 1999 06 14
DATA_FILE_SIZE: 43921920
BYTE_COUNT: 5719
