FILENAME: O4510731.SWS.1010361.tif
QUADRANGLE_NAME: JEANS FORK SW
QUADRANT: SW
WEST_LONGITUDE: -107 15 0.00000
EAST_LONGITUDE: -107 11 15.00000
NORTH_LATITUDE: 45 33 45.00000
SOUTH_LATITUDE: 45 30 0.00000
PRODUCTION_DATE: 1999 6 7
RASTER_ORDER: LEFT_RIGHT/TOP_BOTTOM
BAND_ORGANIZATION: SINGLE FILE
BAND_CONTENT: BLACK&WHITE
BAND_CONTENT: UNDEFINED
BAND_CONTENT: UNDEFINED
BITS_PER_PIXEL: 8
SAMPLES_AND_LINES: 5725 7683
HORIZONTAL_DATUM: NAD83
HORIZONTAL_COORDINATE_SYSTEM: UTM
COORDINATE_ZONE: 13
HORIZONTAL_UNITS: METERS
HORIZONTAL_RESOLUTION: 1.00000
SECONDARY_HORIZONTAL_DATUM: NAD27
XY_ORIGIN: 323864.00000 5048203.00000
SECONDARY_XY_ORIGIN: 323907.85500 5047986.67300
NATION: US
NATION: "SCIENCE
STATE: MT
NW_QUAD_CORNER_XY: 324410.11200 5047902.44800
NE_QUAD_CORNER_XY: 329287.56500 5047767.52000
SE_QUAD_CORNERY_XY: 329098.29000 5040824.00100
SW_QUAD_CORNER_XY: 324215.42500 5040958.93500
SECONDARY_NW_QUAD_XY: 324404.86500 5047684.86500
SECONDARY_NE_QUAD_XY: 329282.46300 5047549.93300
SECONDARY_SE_QUAD_XY: 329093.19000 5040606.46200
SECONDARY_SW_QUAD_XY: 324210.17800 5040741.40000
RMSE_XY: 1.10000
IMAGE_SOURCE: BLACK AND WHITE FILM
SOURCE_IMAGE_ID: NAPP 9098 030
SOURCE_IMAGE_DATE: 1996 07 14
SOURCE_IMAGE_ID: NAPP 9098 032
SOURCE_IMAGE_DATE: 1996 07 14
SOURCE_IMAGE_ID: NAPP 9100 060
SOURCE_IMAGE_DATE: 1996 07 14
SOURCE_DEM_DATE: 1967 00 00
AGENCY: WESTERN MAPPING CENTER (WMC)
PRODUCER: UNDEFINED
PRODUCTION_SYSTEM: GIS/MAGIC
COMPRESSION: UNDEFINED
STANDARD_VERSION: 1996 12
METADATA_DATE: 1999 06 14
DATA_FILE_SIZE: 43990900
BYTE_COUNT: 5725
