FILENAME: O4510730.NWS.927708.tif
QUADRANGLE_NAME: CROW
AGENCY SE
QUADRANT: NW
WEST_LONGITUDE: -107 22 30.00000
EAST_LONGITUDE: -107 18 45.00000
NORTH_LATITUDE: 45 37 30.00000
SOUTH_LATITUDE: 45 33 45.00000
PRODUCTION_DATE: 1997 10 28
RASTER_ORDER: LEFT_RIGHT/TOP_BOTTOM
BAND_ORGANIZATION: SINGLE FILE
BAND_CONTENT: BLACK&WHITE
BAND_CONTENT: UNDEFINED
BAND_CONTENT: UNDEFINED
BITS_PER_PIXEL: 8
SAMPLES_AND_LINES: 5728 7690
HORIZONTAL_DATUM: NAD83
HORIZONTAL_COORDINATE_SYSTEM: UTM
COORDINATE_ZONE: 13
HORIZONTAL_UNITS: METERS
HORIZONTAL_RESOLUTION: 1.00000
SECONDARY_HORIZONTAL_DATUM: NAD27
XY_ORIGIN: 314305.00000 5055428.00000
SECONDARY_XY_ORIGIN: 314348.83000 5055211.48100
NATION: US
STATE: MT
NW_QUAD_CORNER_XY: 314860.95600 5055127.28700
NE_QUAD_CORNER_XY: 319732.98100 5054984.75500
SE_QUAD_CORNERY_XY: 319532.66400 5048041.18200
SW_QUAD_CORNER_XY: 314655.21900 5048183.72100
SECONDARY_NW_QUAD_XY: 314855.41600 5054909.66500
SECONDARY_NE_QUAD_XY: 319727.58600 5054767.12800
SECONDARY_SE_QUAD_XY: 319527.27000 5047823.60300
SECONDARY_SW_QUAD_XY: 314649.68000 5047966.14600
RMSE_XY: 2.40000
IMAGE_SOURCE: BLACK AND WHITE FILM
SOURCE_IMAGE_ID: NAPP 3765 25
SOURCE_IMAGE_DATE: 1991 9 4
SOURCE_DEM_DATE: 1997 10 28
AGENCY: WESTERN MAPPING CENTER (WMC)
PRODUCER: USDA FS GEOMETRONICS SERVICE CENTER
PRODUCTION_SYSTEM: DV2.6.3 10/9OV2.4 5/95
COMPRESSION: UNDEFINED
STANDARD_VERSION: 1996 12
METADATA_DATE: 1998 6 26
DATA_FILE_SIZE: 44054048
BYTE_COUNT: 5728
