FILENAME: O4510729.NWS.927704.tif
QUADRANGLE_NAME: CROW
AGENCY
QUADRANT: NW
WEST_LONGITUDE: -107 30 0.00000
EAST_LONGITUDE: -107 26 15.00000
NORTH_LATITUDE: 45 37 30.00000
SOUTH_LATITUDE: 45 33 45.00000
PRODUCTION_DATE: 1997 10 28
RASTER_ORDER: LEFT_RIGHT/TOP_BOTTOM
BAND_ORGANIZATION: SINGLE FILE
BAND_CONTENT: BLACK&WHITE
BAND_CONTENT: UNDEFINED
BAND_CONTENT: UNDEFINED
BITS_PER_PIXEL: 8
SAMPLES_AND_LINES: 5740 7698
HORIZONTAL_DATUM: NAD83
HORIZONTAL_COORDINATE_SYSTEM: UTM
COORDINATE_ZONE: 13
HORIZONTAL_UNITS: METERS
HORIZONTAL_RESOLUTION: 1.00000
SECONDARY_HORIZONTAL_DATUM: NAD27
XY_ORIGIN: 304549.00000 5055725.00000
SECONDARY_XY_ORIGIN: 304593.15300 5055508.59700
NATION: US
STATE: MT
NW_QUAD_CORNER_XY: 305116.92100 5055423.76700
NE_QUAD_CORNER_XY: 309988.93600 5055273.62400
SE_QUAD_CORNERY_XY: 309777.77900 5048330.06400
SW_QUAD_CORNER_XY: 304900.34300 5048480.21400
SECONDARY_NW_QUAD_XY: 305111.08900 5055206.15400
SECONDARY_NE_QUAD_XY: 309983.25000 5055056.00600
SECONDARY_SE_QUAD_XY: 309772.09400 5048112.49400
SECONDARY_SW_QUAD_XY: 304894.51200 5048262.64800
RMSE_XY: 1.70000
IMAGE_SOURCE: BLACK AND WHITE FILM
SOURCE_IMAGE_ID: NAPP 3758 23
SOURCE_IMAGE_DATE: 1991 6 15
SOURCE_DEM_DATE: 1997 10 28
AGENCY: WESTERN MAPPING CENTER (WMC)
PRODUCER: USDA FS GEOMETRONICS SERVICE CENTER
PRODUCTION_SYSTEM: DV2.6.3 10/9OV2.4 5/95
COMPRESSION: UNDEFINED
STANDARD_VERSION: 1996 12
METADATA_DATE: 1998 6 26
DATA_FILE_SIZE: 44192260
BYTE_COUNT: 5740
