FILENAME: O4510729.SES.927705.tif
QUADRANGLE_NAME: CROW
AGENCY
QUADRANT: SE
WEST_LONGITUDE: -107 26 15.00000
EAST_LONGITUDE: -107 22 30.00000
NORTH_LATITUDE: 45 33 45.00000
SOUTH_LATITUDE: 45 30 0.00000
PRODUCTION_DATE: 1997 10 28
RASTER_ORDER: LEFT_RIGHT/TOP_BOTTOM
BAND_ORGANIZATION: SINGLE FILE
BAND_CONTENT: BLACK&WHITE
BAND_CONTENT: UNDEFINED
BAND_CONTENT: UNDEFINED
BITS_PER_PIXEL: 8
SAMPLES_AND_LINES: 5740 7694
HORIZONTAL_DATUM: NAD83
HORIZONTAL_COORDINATE_SYSTEM: UTM
COORDINATE_ZONE: 13
HORIZONTAL_UNITS: METERS
HORIZONTAL_RESOLUTION: 1.00000
SECONDARY_HORIZONTAL_DATUM: NAD27
XY_ORIGIN: 309216.00000 5048631.00000
SECONDARY_XY_ORIGIN: 309260.31000 5048414.87500
NATION: US
STATE: MT
NW_QUAD_CORNER_XY: 309777.77900 5048330.06400
NE_QUAD_CORNER_XY: 314655.21900 5048183.72100
SE_QUAD_CORNERY_XY: 314449.70400 5041240.21800
SW_QUAD_CORNER_XY: 309566.84900 5041386.56700
SECONDARY_NW_QUAD_XY: 309772.09400 5048112.49400
SECONDARY_NE_QUAD_XY: 314649.68000 5047966.14600
SECONDARY_SE_QUAD_XY: 314444.16600 5041022.69100
SECONDARY_SW_QUAD_XY: 309561.16500 5041169.04500
RMSE_XY: 1.40000
IMAGE_SOURCE: BLACK AND WHITE FILM
SOURCE_IMAGE_ID: NAPP 3758 62
SOURCE_IMAGE_DATE: 1991 6 15
SOURCE_DEM_DATE: 1997 10 28
AGENCY: WESTERN MAPPING CENTER (WMC)
PRODUCER: USDA FS GEOMETRONICS SERVICE CENTER
PRODUCTION_SYSTEM: DV2.6.3 10/9OV2.4 5/95
COMPRESSION: UNDEFINED
STANDARD_VERSION: 1996 12
METADATA_DATE: 1998 6 26
DATA_FILE_SIZE: 44169300
BYTE_COUNT: 5740
