FILENAME: O4510729.SWS.927706.tif
QUADRANGLE_NAME: CROW
AGENCY
QUADRANT: SW
WEST_LONGITUDE: -107 30 0.00000
EAST_LONGITUDE: -107 26 15.00000
NORTH_LATITUDE: 45 33 45.00000
SOUTH_LATITUDE: 45 30 0.00000
PRODUCTION_DATE: 1997 10 28
RASTER_ORDER: LEFT_RIGHT/TOP_BOTTOM
BAND_ORGANIZATION: SINGLE FILE
BAND_CONTENT: BLACK&WHITE
BAND_CONTENT: UNDEFINED
BAND_CONTENT: UNDEFINED
BITS_PER_PIXEL: 8
SAMPLES_AND_LINES: 5748 7698
HORIZONTAL_DATUM: NAD83
HORIZONTAL_COORDINATE_SYSTEM: UTM
COORDINATE_ZONE: 13
HORIZONTAL_UNITS: METERS
HORIZONTAL_RESOLUTION: 1.00000
SECONDARY_HORIZONTAL_DATUM: NAD27
XY_ORIGIN: 304332.00000 5048781.00000
SECONDARY_XY_ORIGIN: 304376.46400 5048564.95100
NATION: US
STATE: MT
NW_QUAD_CORNER_XY: 304900.34300 5048480.21400
NE_QUAD_CORNER_XY: 309777.77900 5048330.06400
SE_QUAD_CORNERY_XY: 309566.84900 5041386.56700
SW_QUAD_CORNER_XY: 304683.99800 5041536.72200
SECONDARY_NW_QUAD_XY: 304894.51200 5048262.64800
SECONDARY_NE_QUAD_XY: 309772.09400 5048112.49400
SECONDARY_SE_QUAD_XY: 309561.16500 5041169.04500
SECONDARY_SW_QUAD_XY: 304678.16800 5041319.20500
RMSE_XY: 1.90000
IMAGE_SOURCE: BLACK AND WHITE FILM
SOURCE_IMAGE_ID: NAPP 3758 21
SOURCE_IMAGE_DATE: 1991 6 15
SOURCE_DEM_DATE: 1997 10 28
AGENCY: WESTERN MAPPING CENTER (WMC)
PRODUCER: USDA FS GEOMETRONICS SERVICE CENTER
PRODUCTION_SYSTEM: DV2.6.3 10/9OV2.4 5/95
COMPRESSION: UNDEFINED
STANDARD_VERSION: 1996 12
METADATA_DATE: 1998 6 26
DATA_FILE_SIZE: 44253852
BYTE_COUNT: 5748
