FILENAME: O4510728.NWS.1008799.tif
QUADRANGLE_NAME: PRANTE RANCH
QUADRANT: NW
WEST_LONGITUDE: -107 37 30.00000
EAST_LONGITUDE: -107 33 45.00000
NORTH_LATITUDE: 45 37 30.00000
SOUTH_LATITUDE: 45 33 45.00000
PRODUCTION_DATE: 1999 4 22
RASTER_ORDER: LEFT_RIGHT/TOP_BOTTOM
BAND_ORGANIZATION: SINGLE FILE
BAND_CONTENT: BLACK&WHITE
BAND_CONTENT: UNDEFINED
BAND_CONTENT: UNDEFINED
BITS_PER_PIXEL: 8
SAMPLES_AND_LINES: 5753 7706
HORIZONTAL_DATUM: NAD83
HORIZONTAL_COORDINATE_SYSTEM: UTM
COORDINATE_ZONE: 13
HORIZONTAL_UNITS: METERS
HORIZONTAL_RESOLUTION: 1.00000
SECONDARY_HORIZONTAL_DATUM: NAD27
XY_ORIGIN: 294793.00000 5056036.00000
SECONDARY_XY_ORIGIN: 294837.48100 5055819.83500
NATION: US
NATION: "SCIENCE
STATE: MT
NW_QUAD_CORNER_XY: 295372.90600 5055735.47000
NE_QUAD_CORNER_XY: 300244.91100 5055577.71500
SE_QUAD_CORNERY_XY: 300022.91100 5048634.16800
SW_QUAD_CORNER_XY: 295145.48400 5048791.93000
SECONDARY_NW_QUAD_XY: 295366.78200 5055517.86600
SECONDARY_NE_QUAD_XY: 300238.93300 5055360.10600
SECONDARY_SE_QUAD_XY: 300016.93500 5048416.60700
SECONDARY_SW_QUAD_XY: 295139.36200 5048574.37400
RMSE_XY: 1.10000
IMAGE_SOURCE: BLACK AND WHITE FILM
SOURCE_IMAGE_ID: NAPP 9135 111
SOURCE_IMAGE_DATE: 1996 08 19
SOURCE_IMAGE_ID: NAPP 9135 112
SOURCE_IMAGE_DATE: 1996 08 19
SOURCE_IMAGE_ID: NAPP 9135 072
SOURCE_IMAGE_DATE: 1996 08 19
SOURCE_DEM_DATE: 1960 00 00
AGENCY: WESTERN MAPPING CENTER (WMC)
PRODUCER: UNDEFINED
PRODUCTION_SYSTEM: GIS/MAGIC
COMPRESSION: UNDEFINED
STANDARD_VERSION: 1996 12
METADATA_DATE: 1999 06 02
DATA_FILE_SIZE: 44338371
BYTE_COUNT: 5753
