FILENAME: O4510727.NES.1006843.tif
QUADRANGLE_NAME: HARDIN SW
QUADRANT: NE
WEST_LONGITUDE: -107 41 15.00000
EAST_LONGITUDE: -107 37 30.00000
NORTH_LATITUDE: 45 37 30.00000
SOUTH_LATITUDE: 45 33 45.00000
PRODUCTION_DATE: 1999 4 22
RASTER_ORDER: LEFT_RIGHT/TOP_BOTTOM
BAND_ORGANIZATION: SINGLE FILE
BAND_CONTENT: BLACK&WHITE
BAND_CONTENT: UNDEFINED
BAND_CONTENT: UNDEFINED
BITS_PER_PIXEL: 8
SAMPLES_AND_LINES: 5759 7710
HORIZONTAL_DATUM: NAD83
HORIZONTAL_COORDINATE_SYSTEM: UTM
COORDINATE_ZONE: 13
HORIZONTAL_UNITS: METERS
HORIZONTAL_RESOLUTION: 1.00000
SECONDARY_HORIZONTAL_DATUM: NAD27
XY_ORIGIN: 289915.00000 5056198.00000
SECONDARY_XY_ORIGIN: 289959.64800 5055981.95100
NATION: US
NATION: "SCIENCE
STATE: MT
NW_QUAD_CORNER_XY: 290500.90600 5055897.03100
NE_QUAD_CORNER_XY: 295372.90600 5055735.47000
SE_QUAD_CORNERY_XY: 295145.48400 5048791.93000
SW_QUAD_CORNER_XY: 290268.06200 5048953.49900
SECONDARY_NW_QUAD_XY: 290494.63600 5055679.43200
SECONDARY_NE_QUAD_XY: 295366.78200 5055517.86600
SECONDARY_SE_QUAD_XY: 295139.36200 5048574.37400
SECONDARY_SW_QUAD_XY: 290261.79300 5048735.94700
RMSE_XY: 0.80000
IMAGE_SOURCE: BLACK AND WHITE FILM
SOURCE_IMAGE_ID: NAPP 9139 025
SOURCE_IMAGE_DATE: 1996 08 26
SOURCE_IMAGE_ID: NAPP 9139 057
SOURCE_IMAGE_DATE: 1996 08 26
SOURCE_IMAGE_ID: NAPP 9135 164
SOURCE_IMAGE_DATE: 1996 08 19
SOURCE_DEM_DATE: 1958 00 00
AGENCY: WESTERN MAPPING CENTER (WMC)
PRODUCER: UNDEFINED
PRODUCTION_SYSTEM: GIS/MAGIC
COMPRESSION: UNDEFINED
STANDARD_VERSION: 1996 12
METADATA_DATE: 1999 05 18
DATA_FILE_SIZE: 44407649
BYTE_COUNT: 5759
