FILENAME: O4510727.SES.1006845.tif
QUADRANGLE_NAME: HARDIN SW
QUADRANT: SE
WEST_LONGITUDE: -107 41 15.00000
EAST_LONGITUDE: -107 37 30.00000
NORTH_LATITUDE: 45 33 45.00000
SOUTH_LATITUDE: 45 30 0.00000
PRODUCTION_DATE: 1999 4 22
RASTER_ORDER: LEFT_RIGHT/TOP_BOTTOM
BAND_ORGANIZATION: SINGLE FILE
BAND_CONTENT: BLACK&WHITE
BAND_CONTENT: UNDEFINED
BAND_CONTENT: UNDEFINED
BITS_PER_PIXEL: 8
SAMPLES_AND_LINES: 5764 7710
HORIZONTAL_DATUM: NAD83
HORIZONTAL_COORDINATE_SYSTEM: UTM
COORDINATE_ZONE: 13
HORIZONTAL_UNITS: METERS
HORIZONTAL_RESOLUTION: 1.00000
SECONDARY_HORIZONTAL_DATUM: NAD27
XY_ORIGIN: 289683.00000 5049254.00000
SECONDARY_XY_ORIGIN: 289727.89500 5049038.35600
NATION: US
NATION: "SCIENCE
STATE: MT
NW_QUAD_CORNER_XY: 290268.06200 5048953.49900
NE_QUAD_CORNER_XY: 295145.48400 5048791.93000
SE_QUAD_CORNERY_XY: 294918.30700 5041848.45100
SW_QUAD_CORNER_XY: 290035.46800 5042010.02600
SECONDARY_NW_QUAD_XY: 290261.79300 5048735.94700
SECONDARY_NE_QUAD_XY: 295139.36200 5048574.37400
SECONDARY_SE_QUAD_XY: 294912.18600 5041630.94300
SECONDARY_SW_QUAD_XY: 290029.20100 5041792.52200
RMSE_XY: 0.90000
IMAGE_SOURCE: BLACK AND WHITE FILM
SOURCE_IMAGE_ID: NAPP 9139 023
SOURCE_IMAGE_DATE: 1996 08 26
SOURCE_DEM_DATE: 1958 00 00
AGENCY: WESTERN MAPPING CENTER (WMC)
PRODUCER: UNDEFINED
PRODUCTION_SYSTEM: GIS/MAGIC
COMPRESSION: UNDEFINED
STANDARD_VERSION: 1996 12
METADATA_DATE: 1999 05 18
DATA_FILE_SIZE: 44446204
BYTE_COUNT: 5764
