FILENAME: O4510726.NES.1006730.tif
QUADRANGLE_NAME: WOODY CREEK CAMP
QUADRANT: NE
WEST_LONGITUDE: -107 48 45.00000
EAST_LONGITUDE: -107 45 0.00000
NORTH_LATITUDE: 45 37 30.00000
SOUTH_LATITUDE: 45 33 45.00000
PRODUCTION_DATE: 1999 4 22
RASTER_ORDER: LEFT_RIGHT/TOP_BOTTOM
BAND_ORGANIZATION: SINGLE FILE
BAND_CONTENT: BLACK&WHITE
BAND_CONTENT: UNDEFINED
BAND_CONTENT: UNDEFINED
BITS_PER_PIXEL: 8
SAMPLES_AND_LINES: 5770 7718
HORIZONTAL_DATUM: NAD83
HORIZONTAL_COORDINATE_SYSTEM: UTM
COORDINATE_ZONE: 13
HORIZONTAL_UNITS: METERS
HORIZONTAL_RESOLUTION: 1.00000
SECONDARY_HORIZONTAL_DATUM: NAD27
XY_ORIGIN: 280160.00000 5056532.00000
SECONDARY_XY_ORIGIN: 280205.01100 5056316.30800
NATION: US
NATION: "SCIENCE
STATE: MT
NW_QUAD_CORNER_XY: 280756.92200 5056231.57500
NE_QUAD_CORNER_XY: 285628.91100 5056062.39900
SE_QUAD_CORNERY_XY: 285390.64400 5049118.87400
SW_QUAD_CORNER_XY: 280513.23100 5049288.05700
SECONDARY_NW_QUAD_XY: 280750.36000 5056013.98600
SECONDARY_NE_QUAD_XY: 285622.49600 5055844.80500
SECONDARY_SE_QUAD_XY: 285384.23000 5048901.32800
SECONDARY_SW_QUAD_XY: 280506.67100 5049070.51600
RMSE_XY: 1.30000
IMAGE_SOURCE: BLACK AND WHITE FILM
SOURCE_IMAGE_ID: NAPP 9139 055
SOURCE_IMAGE_DATE: 1996 08 26
SOURCE_IMAGE_ID: NAPP 9132 010
SOURCE_IMAGE_DATE: 1996 07 29
SOURCE_IMAGE_ID: NAPP 9131 300
SOURCE_IMAGE_DATE: 1996 07 29
SOURCE_IMAGE_ID: NAPP 9131 297
SOURCE_IMAGE_DATE: 1996 07 29
SOURCE_IMAGE_ID: NAPP 9131 296
SOURCE_IMAGE_DATE: 1996 07 29
SOURCE_DEM_DATE: 1968 00 00
AGENCY: WESTERN MAPPING CENTER (WMC)
PRODUCER: UNDEFINED
PRODUCTION_SYSTEM: GIS/MAGIC
COMPRESSION: UNDEFINED
STANDARD_VERSION: 1996 12
METADATA_DATE: 1999 05 18
DATA_FILE_SIZE: 44538630
BYTE_COUNT: 5770
