FILENAME: O4510726.SES.1006735.tif
QUADRANGLE_NAME: WOODY CREEK CAMP
QUADRANT: SE
WEST_LONGITUDE: -107 48 45.00000
EAST_LONGITUDE: -107 45 0.00000
NORTH_LATITUDE: 45 33 45.00000
SOUTH_LATITUDE: 45 30 0.00000
PRODUCTION_DATE: 1999 4 22
RASTER_ORDER: LEFT_RIGHT/TOP_BOTTOM
BAND_ORGANIZATION: SINGLE FILE
BAND_CONTENT: BLACK&WHITE
BAND_CONTENT: UNDEFINED
BAND_CONTENT: UNDEFINED
BITS_PER_PIXEL: 8
SAMPLES_AND_LINES: 5776 7718
HORIZONTAL_DATUM: NAD83
HORIZONTAL_COORDINATE_SYSTEM: UTM
COORDINATE_ZONE: 13
HORIZONTAL_UNITS: METERS
HORIZONTAL_RESOLUTION: 1.00000
SECONDARY_HORIZONTAL_DATUM: NAD27
XY_ORIGIN: 279916.00000 5049589.00000
SECONDARY_XY_ORIGIN: 279961.17900 5049373.63300
NATION: US
NATION: "SCIENCE
STATE: MT
NW_QUAD_CORNER_XY: 280513.23100 5049288.05700
NE_QUAD_CORNER_XY: 285390.64400 5049118.87400
SE_QUAD_CORNERY_XY: 285152.63300 5042175.40800
SW_QUAD_CORNER_XY: 280269.80300 5042344.59800
SECONDARY_NW_QUAD_XY: 280506.67100 5049070.51600
SECONDARY_NE_QUAD_XY: 285384.23000 5048901.32800
SECONDARY_SE_QUAD_XY: 285146.22100 5041957.90900
SECONDARY_SW_QUAD_XY: 280263.24500 5042127.10400
RMSE_XY: 1.20000
IMAGE_SOURCE: BLACK AND WHITE FILM
SOURCE_IMAGE_ID: NAPP 9131 300
SOURCE_IMAGE_DATE: 1996 07 29
SOURCE_IMAGE_ID: NAPP 9132 008
SOURCE_IMAGE_DATE: 1996 07 29
SOURCE_IMAGE_ID: NAPP 9131 298
SOURCE_IMAGE_DATE: 1996 07 29
SOURCE_IMAGE_ID: NAPP 9139 059
SOURCE_IMAGE_DATE: 1996 08 26
SOURCE_DEM_DATE: 1968 00 00
AGENCY: WESTERN MAPPING CENTER (WMC)
PRODUCER: UNDEFINED
PRODUCTION_SYSTEM: GIS/MAGIC
COMPRESSION: UNDEFINED
STANDARD_VERSION: 1996 12
METADATA_DATE: 1999 05 18
DATA_FILE_SIZE: 44584944
BYTE_COUNT: 5776
