FILENAME: O4510726.SWS.1006737.tif
QUADRANGLE_NAME: WOODY CREEK CAMP
QUADRANT: SW
WEST_LONGITUDE: -107 52 30.00000
EAST_LONGITUDE: -107 48 45.00000
NORTH_LATITUDE: 45 33 45.00000
SOUTH_LATITUDE: 45 30 0.00000
PRODUCTION_DATE: 1999 4 22
RASTER_ORDER: LEFT_RIGHT/TOP_BOTTOM
BAND_ORGANIZATION: SINGLE FILE
BAND_CONTENT: BLACK&WHITE
BAND_CONTENT: UNDEFINED
BAND_CONTENT: UNDEFINED
BITS_PER_PIXEL: 8
SAMPLES_AND_LINES: 5782 7722
HORIZONTAL_DATUM: NAD83
HORIZONTAL_COORDINATE_SYSTEM: UTM
COORDINATE_ZONE: 13
HORIZONTAL_UNITS: METERS
HORIZONTAL_RESOLUTION: 1.00000
SECONDARY_HORIZONTAL_DATUM: NAD27
XY_ORIGIN: 275033.00000 5049762.00000
SECONDARY_XY_ORIGIN: 275078.32800 5049546.80700
NATION: US
NATION: "SCIENCE
STATE: MT
NW_QUAD_CORNER_XY: 275635.82300 5049461.04800
NE_QUAD_CORNER_XY: 280513.23100 5049288.05700
SE_QUAD_CORNERY_XY: 280269.80300 5042344.59800
SW_QUAD_CORNER_XY: 275386.97700 5042517.59500
SECONDARY_NW_QUAD_XY: 275629.11800 5049243.51200
SECONDARY_NE_QUAD_XY: 280506.67100 5049070.51600
SECONDARY_SE_QUAD_XY: 280263.24500 5042127.10400
SECONDARY_SW_QUAD_XY: 275380.27300 5042300.10700
RMSE_XY: 1.60000
IMAGE_SOURCE: BLACK AND WHITE FILM
SOURCE_IMAGE_ID: NAPP 9131 300
SOURCE_IMAGE_DATE: 1996 07 29
SOURCE_IMAGE_ID: NAPP 9139 127
SOURCE_IMAGE_DATE: 1996 08 26
SOURCE_IMAGE_ID: NAPP 9139 095
SOURCE_IMAGE_DATE: 1996 08 26
SOURCE_IMAGE_ID: NAPP 9139 094
SOURCE_IMAGE_DATE: 1996 08 26
SOURCE_IMAGE_ID: NAPP 9132 010
SOURCE_IMAGE_DATE: 1996 07 29
SOURCE_DEM_DATE: 1968 00 00
AGENCY: WESTERN MAPPING CENTER (WMC)
PRODUCER: UNDEFINED
PRODUCTION_SYSTEM: GIS/MAGIC
COMPRESSION: UNDEFINED
STANDARD_VERSION: 1996 12
METADATA_DATE: 1999 05 18
DATA_FILE_SIZE: 44654386
BYTE_COUNT: 5782
