FILENAME: O4510725.NWS.1006500.tif
QUADRANGLE_NAME: BENTONITE FLATS
QUADRANT: NW
WEST_LONGITUDE: -108 0 0.00000
EAST_LONGITUDE: -107 56 15.00000
NORTH_LATITUDE: 45 37 30.00000
SOUTH_LATITUDE: 45 33 45.00000
PRODUCTION_DATE: 1999 4 22
RASTER_ORDER: LEFT_RIGHT/TOP_BOTTOM
BAND_ORGANIZATION: SINGLE FILE
BAND_CONTENT: BLACK&WHITE
BAND_CONTENT: UNDEFINED
BAND_CONTENT: UNDEFINED
BITS_PER_PIXEL: 8
SAMPLES_AND_LINES: 5787 7729
HORIZONTAL_DATUM: NAD83
HORIZONTAL_COORDINATE_SYSTEM: UTM
COORDINATE_ZONE: 13
HORIZONTAL_UNITS: METERS
HORIZONTAL_RESOLUTION: 1.00000
SECONDARY_HORIZONTAL_DATUM: NAD27
XY_ORIGIN: 265527.00000 5057062.00000
SECONDARY_XY_ORIGIN: 265572.61900 5056847.08200
NATION: US
NATION: "SCIENCE
STATE: MT
NW_QUAD_CORNER_XY: 266140.98900 5056761.95000
NE_QUAD_CORNER_XY: 271012.96100 5056581.35000
SE_QUAD_CORNERY_XY: 270758.42100 5049637.84800
SW_QUAD_CORNER_XY: 265881.02400 5049818.45600
SECONDARY_NW_QUAD_XY: 266133.98900 5056544.37700
SECONDARY_NE_QUAD_XY: 271006.10700 5056363.77100
SECONDARY_SE_QUAD_XY: 270751.56900 5049420.31700
SECONDARY_SW_QUAD_XY: 265874.02600 5049600.93000
RMSE_XY: 0.90000
IMAGE_SOURCE: BLACK AND WHITE FILM
SOURCE_IMAGE_ID: NAPP 9151 031
SOURCE_IMAGE_DATE: 1996 09 11
SOURCE_IMAGE_ID: NAPP 9139 129
SOURCE_IMAGE_DATE: 1996 08 26
SOURCE_DEM_DATE: 1968 00 00
AGENCY: WESTERN MAPPING CENTER (WMC)
PRODUCER: UNDEFINED
PRODUCTION_SYSTEM: GIS/MAGIC
COMPRESSION: UNDEFINED
STANDARD_VERSION: 1996 12
METADATA_DATE: 1999 05 18
DATA_FILE_SIZE: 44733510
BYTE_COUNT: 5787
