FILENAME: O4510724.SES.1010383.tif
QUADRANGLE_NAME: JEANS FORK NE
QUADRANT: SE
WEST_LONGITUDE: -107 3 45.00000
EAST_LONGITUDE: -107 0 0.00000
NORTH_LATITUDE: 45 41 15.00000
SOUTH_LATITUDE: 45 37 30.00000
PRODUCTION_DATE: 1999 5 25
RASTER_ORDER: LEFT_RIGHT/TOP_BOTTOM
BAND_ORGANIZATION: SINGLE FILE
BAND_CONTENT: BLACK&WHITE
BAND_CONTENT: UNDEFINED
BAND_CONTENT: UNDEFINED
BITS_PER_PIXEL: 8
SAMPLES_AND_LINES: 5696 7671
HORIZONTAL_DATUM: NAD83
HORIZONTAL_COORDINATE_SYSTEM: UTM
COORDINATE_ZONE: 13
HORIZONTAL_UNITS: METERS
HORIZONTAL_RESOLUTION: 1.00000
SECONDARY_HORIZONTAL_DATUM: NAD27
XY_ORIGIN: 338872.00000 5061697.00000
SECONDARY_XY_ORIGIN: 338914.44600 5061479.80100
NATION: US
NATION: "SCIENCE
STATE: MT
NW_QUAD_CORNER_XY: 339399.95700 5061396.33200
NE_QUAD_CORNER_XY: 344266.58000 5061272.82700
SE_QUAD_CORNERY_XY: 344093.16900 5054329.15900
SW_QUAD_CORNER_XY: 339221.12300 5054452.67100
SECONDARY_NW_QUAD_XY: 339395.14500 5061178.64300
SECONDARY_NE_QUAD_XY: 344261.91300 5061055.13500
SECONDARY_SE_QUAD_XY: 344088.50300 5054111.51400
SECONDARY_SW_QUAD_XY: 339216.31200 5054235.02800
RMSE_XY: 2.50000
IMAGE_SOURCE: BLACK AND WHITE FILM
SOURCE_IMAGE_ID: NAPP 9122 008
SOURCE_IMAGE_DATE: 1996 09 11
SOURCE_IMAGE_ID: NAPP 9099 190
SOURCE_IMAGE_DATE: 1996 07 14
SOURCE_IMAGE_ID: NAPP 9122 009
SOURCE_IMAGE_DATE: 1996 09 11
SOURCE_IMAGE_ID: NAPP 9122 007
SOURCE_IMAGE_DATE: 1996 09 11
SOURCE_DEM_DATE: 1987 00 00
AGENCY: WESTERN MAPPING CENTER (WMC)
PRODUCER: UNDEFINED
PRODUCTION_SYSTEM: GIS/MAGIC
COMPRESSION: UNDEFINED
STANDARD_VERSION: 1996 12
METADATA_DATE: 1999 06 14
DATA_FILE_SIZE: 43699712
BYTE_COUNT: 5696
