FILENAME: O4510724.SWS.1010384.tif
QUADRANGLE_NAME: JEANS FORK NE
QUADRANT: SW
WEST_LONGITUDE: -107 7 30.00000
EAST_LONGITUDE: -107 3 45.00000
NORTH_LATITUDE: 45 41 15.00000
SOUTH_LATITUDE: 45 37 30.00000
PRODUCTION_DATE: 1999 5 25
RASTER_ORDER: LEFT_RIGHT/TOP_BOTTOM
BAND_ORGANIZATION: SINGLE FILE
BAND_CONTENT: BLACK&WHITE
BAND_CONTENT: UNDEFINED
BAND_CONTENT: UNDEFINED
BITS_PER_PIXEL: 8
SAMPLES_AND_LINES: 5701 7675
HORIZONTAL_DATUM: NAD83
HORIZONTAL_COORDINATE_SYSTEM: UTM
COORDINATE_ZONE: 13
HORIZONTAL_UNITS: METERS
HORIZONTAL_RESOLUTION: 1.00000
SECONDARY_HORIZONTAL_DATUM: NAD27
XY_ORIGIN: 334000.00000 5061824.00000
SECONDARY_XY_ORIGIN: 334042.69000 5061606.89800
NATION: US
NATION: "SCIENCE
STATE: MT
NW_QUAD_CORNER_XY: 334533.34000 5061523.64100
NE_QUAD_CORNER_XY: 339399.95700 5061396.33200
SE_QUAD_CORNERY_XY: 339221.12300 5054452.67100
SW_QUAD_CORNER_XY: 334349.08100 5054579.98500
SECONDARY_NW_QUAD_XY: 334528.38100 5061305.95600
SECONDARY_NE_QUAD_XY: 339395.14500 5061178.64300
SECONDARY_SE_QUAD_XY: 339216.31200 5054235.02800
SECONDARY_SW_QUAD_XY: 334344.12400 5054362.34700
RMSE_XY: 2.00000
IMAGE_SOURCE: BLACK AND WHITE FILM
SOURCE_IMAGE_ID: NAPP 9099 189
SOURCE_IMAGE_DATE: 1996 07 14
SOURCE_IMAGE_ID: NAPP 9099 190
SOURCE_IMAGE_DATE: 1996 07 14
SOURCE_DEM_DATE: 1987 00 00
AGENCY: WESTERN MAPPING CENTER (WMC)
PRODUCER: UNDEFINED
PRODUCTION_SYSTEM: GIS/MAGIC
COMPRESSION: UNDEFINED
STANDARD_VERSION: 1996 12
METADATA_DATE: 1999 06 14
DATA_FILE_SIZE: 43760876
BYTE_COUNT: 5701
