FILENAME: O4510723.NES.1010619.tif
QUADRANGLE_NAME: JEANS FORK NW
QUADRANT: NE
WEST_LONGITUDE: -107 11 15.00000
EAST_LONGITUDE: -107 7 30.00000
NORTH_LATITUDE: 45 45 0.00000
SOUTH_LATITUDE: 45 41 15.00000
PRODUCTION_DATE: 1999 5 25
RASTER_ORDER: LEFT_RIGHT/TOP_BOTTOM
BAND_ORGANIZATION: SINGLE FILE
BAND_CONTENT: BLACK&WHITE
BAND_CONTENT: UNDEFINED
BAND_CONTENT: UNDEFINED
BITS_PER_PIXEL: 8
SAMPLES_AND_LINES: 5702 7678
HORIZONTAL_DATUM: NAD83
HORIZONTAL_COORDINATE_SYSTEM: UTM
COORDINATE_ZONE: 13
HORIZONTAL_UNITS: METERS
HORIZONTAL_RESOLUTION: 1.00000
SECONDARY_HORIZONTAL_DATUM: NAD27
XY_ORIGIN: 329317.00000 5068899.00000
SECONDARY_XY_ORIGIN: 329359.59500 5068681.71800
NATION: US
NATION: "SCIENCE
STATE: MT
NW_QUAD_CORNER_XY: 329856.61300 5068598.46800
NE_QUAD_CORNER_XY: 334717.79600 5068467.36200
SE_QUAD_CORNERY_XY: 334533.34000 5061523.64100
SW_QUAD_CORNER_XY: 329666.72600 5061654.75300
SECONDARY_NW_QUAD_XY: 329851.50700 5068380.74100
SECONDARY_NE_QUAD_XY: 334712.83600 5068249.63200
SECONDARY_SE_QUAD_XY: 334528.38100 5061305.95600
SECONDARY_SW_QUAD_XY: 329661.62200 5061437.07200
RMSE_XY: 1.70000
IMAGE_SOURCE: BLACK AND WHITE FILM
SOURCE_IMAGE_ID: NAPP 9100 054
SOURCE_IMAGE_DATE: 1996 07 14
SOURCE_DEM_DATE: 1967 00 00
AGENCY: WESTERN MAPPING CENTER (WMC)
PRODUCER: UNDEFINED
PRODUCTION_SYSTEM: GIS/MAGIC
COMPRESSION: UNDEFINED
STANDARD_VERSION: 1996 12
METADATA_DATE: 1999 06 07
DATA_FILE_SIZE: 43785658
BYTE_COUNT: 5702
