FILENAME: O4510723.SES.1010621.tif
QUADRANGLE_NAME: JEANS FORK NW
QUADRANT: SE
WEST_LONGITUDE: -107 11 15.00000
EAST_LONGITUDE: -107 7 30.00000
NORTH_LATITUDE: 45 41 15.00000
SOUTH_LATITUDE: 45 37 30.00000
PRODUCTION_DATE: 1999 5 25
RASTER_ORDER: LEFT_RIGHT/TOP_BOTTOM
BAND_ORGANIZATION: SINGLE FILE
BAND_CONTENT: BLACK&WHITE
BAND_CONTENT: UNDEFINED
BAND_CONTENT: UNDEFINED
BITS_PER_PIXEL: 8
SAMPLES_AND_LINES: 5708 7678
HORIZONTAL_DATUM: NAD83
HORIZONTAL_COORDINATE_SYSTEM: UTM
COORDINATE_ZONE: 13
HORIZONTAL_UNITS: METERS
HORIZONTAL_RESOLUTION: 1.00000
SECONDARY_HORIZONTAL_DATUM: NAD27
XY_ORIGIN: 329127.00000 5061955.00000
SECONDARY_XY_ORIGIN: 329169.93400 5061737.99400
NATION: US
NATION: "SCIENCE
STATE: MT
NW_QUAD_CORNER_XY: 329666.72600 5061654.75300
NE_QUAD_CORNER_XY: 334533.34000 5061523.64100
SE_QUAD_CORNERY_XY: 334349.08100 5054579.98500
SW_QUAD_CORNER_XY: 329477.04300 5054711.10400
SECONDARY_NW_QUAD_XY: 329661.62200 5061437.07200
SECONDARY_NE_QUAD_XY: 334528.38100 5061305.95600
SECONDARY_SE_QUAD_XY: 334344.12400 5054362.34700
SECONDARY_SW_QUAD_XY: 329471.94000 5054493.46900
RMSE_XY: 2.00000
IMAGE_SOURCE: BLACK AND WHITE FILM
SOURCE_IMAGE_ID: NAPP 9100 056
SOURCE_IMAGE_DATE: 1996 07 14
SOURCE_IMAGE_ID: NAPP 9100 055
SOURCE_IMAGE_DATE: 1996 07 14
SOURCE_IMAGE_ID: NAPP 9100 054
SOURCE_IMAGE_DATE: 1996 07 14
SOURCE_IMAGE_ID: NAPP 9099 188
SOURCE_IMAGE_DATE: 1996 07 14
SOURCE_DEM_DATE: 1967 00 00
AGENCY: WESTERN MAPPING CENTER (WMC)
PRODUCER: UNDEFINED
PRODUCTION_SYSTEM: GIS/MAGIC
COMPRESSION: UNDEFINED
STANDARD_VERSION: 1996 12
METADATA_DATE: 1999 06 07
DATA_FILE_SIZE: 43831732
BYTE_COUNT: 5708
