FILENAME: O4510722.SES.1010609.tif
QUADRANGLE_NAME: CROW
AGENCY NE
QUADRANT: SE
WEST_LONGITUDE: -107 18 45.00000
EAST_LONGITUDE: -107 15 0.00000
NORTH_LATITUDE: 45 41 15.00000
SOUTH_LATITUDE: 45 37 30.00000
PRODUCTION_DATE: 1999 5 25
RASTER_ORDER: LEFT_RIGHT/TOP_BOTTOM
BAND_ORGANIZATION: SINGLE FILE
BAND_CONTENT: BLACK&WHITE
BAND_CONTENT: UNDEFINED
BAND_CONTENT: UNDEFINED
BITS_PER_PIXEL: 8
SAMPLES_AND_LINES: 5720 7686
HORIZONTAL_DATUM: NAD83
HORIZONTAL_COORDINATE_SYSTEM: UTM
COORDINATE_ZONE: 13
HORIZONTAL_UNITS: METERS
HORIZONTAL_RESOLUTION: 1.00000
SECONDARY_HORIZONTAL_DATUM: NAD27
XY_ORIGIN: 319382.00000 5062229.00000
SECONDARY_XY_ORIGIN: 319425.33600 5062012.12400
NATION: US
NATION: "SCIENCE
STATE: MT
NW_QUAD_CORNER_XY: 319933.51400 5061928.39000
NE_QUAD_CORNER_XY: 324800.11800 5061789.67000
SE_QUAD_CORNERY_XY: 324605.01000 5054846.02700
SW_QUAD_CORNER_XY: 319732.98100 5054984.75400
SECONDARY_NW_QUAD_XY: 319928.11800 5061710.71700
SECONDARY_NE_QUAD_XY: 324794.86800 5061571.99300
SECONDARY_SE_QUAD_XY: 324599.76100 5054628.39600
SECONDARY_SW_QUAD_XY: 319727.58600 5054767.12800
RMSE_XY: 1.70000
IMAGE_SOURCE: BLACK AND WHITE FILM
SOURCE_IMAGE_ID: NAPP 9126 048
SOURCE_IMAGE_DATE: 1996 07 14
SOURCE_IMAGE_ID: NAPP 9126 047
SOURCE_IMAGE_DATE: 1996 07 14
SOURCE_IMAGE_ID: NAPP 9126 046
SOURCE_IMAGE_DATE: 1996 07 14
SOURCE_IMAGE_ID: NAPP 9098 034
SOURCE_IMAGE_DATE: 1996 07 14
SOURCE_DEM_DATE: 1967 00 00
AGENCY: WESTERN MAPPING CENTER (WMC)
PRODUCER: UNDEFINED
PRODUCTION_SYSTEM: GIS/MAGIC
COMPRESSION: UNDEFINED
STANDARD_VERSION: 1996 12
METADATA_DATE: 1999 06 07
DATA_FILE_SIZE: 43969640
BYTE_COUNT: 5720
