FILENAME: O4510722.SWS.1010610.tif
QUADRANGLE_NAME: CROW
AGENCY NE
QUADRANT: SW
WEST_LONGITUDE: -107 22 30.00000
EAST_LONGITUDE: -107 18 45.00000
NORTH_LATITUDE: 45 41 15.00000
SOUTH_LATITUDE: 45 37 30.00000
PRODUCTION_DATE: 1999 5 25
RASTER_ORDER: LEFT_RIGHT/TOP_BOTTOM
BAND_ORGANIZATION: SINGLE FILE
BAND_CONTENT: BLACK&WHITE
BAND_CONTENT: UNDEFINED
BAND_CONTENT: UNDEFINED
BITS_PER_PIXEL: 8
SAMPLES_AND_LINES: 5725 7690
HORIZONTAL_DATUM: NAD83
HORIZONTAL_COORDINATE_SYSTEM: UTM
COORDINATE_ZONE: 13
HORIZONTAL_UNITS: METERS
HORIZONTAL_RESOLUTION: 1.00000
SECONDARY_HORIZONTAL_DATUM: NAD27
XY_ORIGIN: 314510.00000 5062371.00000
SECONDARY_XY_ORIGIN: 314553.50300 5062154.16400
NATION: US
NATION: "SCIENCE
STATE: MT
NW_QUAD_CORNER_XY: 315066.91500 5062070.91600
NE_QUAD_CORNER_XY: 319933.51400 5061928.39000
SE_QUAD_CORNERY_XY: 319732.98100 5054984.75400
SW_QUAD_CORNER_XY: 314860.95600 5055127.28600
SECONDARY_NW_QUAD_XY: 315061.37300 5061853.24700
SECONDARY_NE_QUAD_XY: 319928.11800 5061710.71700
SECONDARY_SE_QUAD_XY: 319727.58600 5054767.12800
SECONDARY_SW_QUAD_XY: 314855.41600 5054909.66400
RMSE_XY: 2.20000
IMAGE_SOURCE: BLACK AND WHITE FILM
SOURCE_IMAGE_ID: NAPP 9133 059
SOURCE_IMAGE_DATE: 1996 08 08
SOURCE_IMAGE_ID: NAPP 9133 163
SOURCE_IMAGE_DATE: 1996 08 08
SOURCE_IMAGE_ID: NAPP 9133 058
SOURCE_IMAGE_DATE: 1996 08 08
SOURCE_IMAGE_ID: NAPP 9133 060
SOURCE_IMAGE_DATE: 1996 08 08
SOURCE_IMAGE_ID: NAPP 9126 046
SOURCE_IMAGE_DATE: 1996 07 14
SOURCE_DEM_DATE: 1967 00 00
AGENCY: WESTERN MAPPING CENTER (WMC)
PRODUCER: UNDEFINED
PRODUCTION_SYSTEM: GIS/MAGIC
COMPRESSION: UNDEFINED
STANDARD_VERSION: 1996 12
METADATA_DATE: 1999 06 07
DATA_FILE_SIZE: 44030975
BYTE_COUNT: 5725
