FILENAME: O4510721.NWS.1010604.tif
QUADRANGLE_NAME: LITTLE DRY CREEK
QUADRANT: NW
WEST_LONGITUDE: -107 30 0.00000
EAST_LONGITUDE: -107 26 15.00000
NORTH_LATITUDE: 45 45 0.00000
SOUTH_LATITUDE: 45 41 15.00000
PRODUCTION_DATE: 1999 5 25
RASTER_ORDER: LEFT_RIGHT/TOP_BOTTOM
BAND_ORGANIZATION: SINGLE FILE
BAND_CONTENT: BLACK&WHITE
BAND_CONTENT: UNDEFINED
BAND_CONTENT: UNDEFINED
BITS_PER_PIXEL: 8
SAMPLES_AND_LINES: 5730 7698
HORIZONTAL_DATUM: NAD83
HORIZONTAL_COORDINATE_SYSTEM: UTM
COORDINATE_ZONE: 13
HORIZONTAL_UNITS: METERS
HORIZONTAL_RESOLUTION: 1.00000
SECONDARY_HORIZONTAL_DATUM: NAD27
XY_ORIGIN: 304983.00000 5069612.00000
SECONDARY_XY_ORIGIN: 305026.52800 5069394.89100
NATION: US
NATION: "SCIENCE
STATE: MT
NW_QUAD_CORNER_XY: 305550.77800 5069311.05800
NE_QUAD_CORNER_XY: 310411.93400 5069160.93100
SE_QUAD_CORNERY_XY: 310200.32100 5062217.24600
SW_QUAD_CORNER_XY: 305333.73300 5062367.38100
SECONDARY_NW_QUAD_XY: 305544.94300 5069093.35300
SECONDARY_NE_QUAD_XY: 310406.24400 5068943.22100
SECONDARY_SE_QUAD_XY: 310194.63400 5061999.58200
SECONDARY_SW_QUAD_XY: 305327.89900 5062149.72200
RMSE_XY: 1.60000
IMAGE_SOURCE: BLACK AND WHITE FILM
SOURCE_IMAGE_ID: NAPP 9133 208
SOURCE_IMAGE_DATE: 1996 08 08
SOURCE_IMAGE_ID: NAPP 9133 206
SOURCE_IMAGE_DATE: 1996 08 08
SOURCE_IMAGE_ID: NAPP 9133 210
SOURCE_IMAGE_DATE: 1996 08 08
SOURCE_DEM_DATE: 1967 00 00
AGENCY: WESTERN MAPPING CENTER (WMC)
PRODUCER: UNDEFINED
PRODUCTION_SYSTEM: GIS/MAGIC
COMPRESSION: UNDEFINED
STANDARD_VERSION: 1996 12
METADATA_DATE: 1999 06 07
DATA_FILE_SIZE: 44115270
BYTE_COUNT: 5730
