FILENAME: O4510721.SES.1010605.tif
QUADRANGLE_NAME: LITTLE DRY CREEK
QUADRANT: SE
WEST_LONGITUDE: -107 26 15.00000
EAST_LONGITUDE: -107 22 30.00000
NORTH_LATITUDE: 45 41 15.00000
SOUTH_LATITUDE: 45 37 30.00000
PRODUCTION_DATE: 1999 5 25
RASTER_ORDER: LEFT_RIGHT/TOP_BOTTOM
BAND_ORGANIZATION: SINGLE FILE
BAND_CONTENT: BLACK&WHITE
BAND_CONTENT: UNDEFINED
BAND_CONTENT: UNDEFINED
BITS_PER_PIXEL: 8
SAMPLES_AND_LINES: 5730 7694
HORIZONTAL_DATUM: NAD83
HORIZONTAL_COORDINATE_SYSTEM: UTM
COORDINATE_ZONE: 13
HORIZONTAL_UNITS: METERS
HORIZONTAL_RESOLUTION: 1.00000
SECONDARY_HORIZONTAL_DATUM: NAD27
XY_ORIGIN: 309638.00000 5062518.00000
SECONDARY_XY_ORIGIN: 309681.67100 5062301.20400
NATION: US
NATION: "SCIENCE
STATE: MT
NW_QUAD_CORNER_XY: 310200.32100 5062217.24600
NE_QUAD_CORNER_XY: 315066.91500 5062070.91600
SE_QUAD_CORNERY_XY: 314860.95600 5055127.28600
SW_QUAD_CORNER_XY: 309988.93600 5055273.62300
SECONDARY_NW_QUAD_XY: 310194.63400 5061999.58200
SECONDARY_NE_QUAD_XY: 315061.37300 5061853.24700
SECONDARY_SE_QUAD_XY: 314855.41600 5054909.66400
SECONDARY_SW_QUAD_XY: 309983.25000 5055056.00600
RMSE_XY: 1.90000
IMAGE_SOURCE: BLACK AND WHITE FILM
SOURCE_IMAGE_ID: NAPP 9133 163
SOURCE_IMAGE_DATE: 1996 08 08
SOURCE_IMAGE_ID: NAPP 9133 164
SOURCE_IMAGE_DATE: 1996 08 08
SOURCE_IMAGE_ID: NAPP 9133 162
SOURCE_IMAGE_DATE: 1996 08 08
SOURCE_IMAGE_ID: NAPP 9133 059
SOURCE_IMAGE_DATE: 1996 08 08
SOURCE_IMAGE_ID: NAPP 9133 061
SOURCE_IMAGE_DATE: 1996 08 08
SOURCE_DEM_DATE: 1967 00 00
AGENCY: WESTERN MAPPING CENTER (WMC)
PRODUCER: UNDEFINED
PRODUCTION_SYSTEM: GIS/MAGIC
COMPRESSION: UNDEFINED
STANDARD_VERSION: 1996 12
METADATA_DATE: 1999 06 07
DATA_FILE_SIZE: 44092350
BYTE_COUNT: 5730
