FILENAME: O4510720.NES.1008794.tif
QUADRANGLE_NAME: HARDIN
QUADRANT: NE
WEST_LONGITUDE: -107 33 45.00000
EAST_LONGITUDE: -107 30 0.00000
NORTH_LATITUDE: 45 45 0.00000
SOUTH_LATITUDE: 45 41 15.00000
PRODUCTION_DATE: 1999 4 23
RASTER_ORDER: LEFT_RIGHT/TOP_BOTTOM
BAND_ORGANIZATION: SINGLE FILE
BAND_CONTENT: BLACK&WHITE
BAND_CONTENT: UNDEFINED
BAND_CONTENT: UNDEFINED
BITS_PER_PIXEL: 8
SAMPLES_AND_LINES: 5736 7701
HORIZONTAL_DATUM: NAD83
HORIZONTAL_COORDINATE_SYSTEM: UTM
COORDINATE_ZONE: 13
HORIZONTAL_UNITS: METERS
HORIZONTAL_RESOLUTION: 1.00000
SECONDARY_HORIZONTAL_DATUM: NAD27
XY_ORIGIN: 300116.00000 5069765.00000
SECONDARY_XY_ORIGIN: 300159.73600 5069547.98000
NATION: US
NATION: "SCIENCE
STATE: MT
NW_QUAD_CORNER_XY: 300689.62800 5069464.99100
NE_QUAD_CORNER_XY: 305550.77800 5069311.05800
SE_QUAD_CORNERY_XY: 305333.73300 5062367.38100
SW_QUAD_CORNER_XY: 300467.15000 5062521.32200
SECONDARY_NW_QUAD_XY: 300683.64700 5069247.29000
SECONDARY_NE_QUAD_XY: 305544.94300 5069093.35300
SECONDARY_SE_QUAD_XY: 305327.89900 5062149.72200
SECONDARY_SW_QUAD_XY: 300461.17100 5062303.66700
RMSE_XY: 1.70000
IMAGE_SOURCE: BLACK AND WHITE FILM
SOURCE_IMAGE_ID: NAPP 9135 068
SOURCE_IMAGE_DATE: 1996 08 19
SOURCE_IMAGE_ID: NAPP 9135 115
SOURCE_IMAGE_DATE: 1996 08 19
SOURCE_IMAGE_ID: NAPP 9135 116
SOURCE_IMAGE_DATE: 1996 08 19
SOURCE_IMAGE_ID: NAPP 9135 066
SOURCE_IMAGE_DATE: 1996 08 19
SOURCE_IMAGE_ID: NAPP 9133 208
SOURCE_IMAGE_DATE: 1996 08 08
SOURCE_DEM_DATE: 1980 00 00
AGENCY: WESTERN MAPPING CENTER (WMC)
PRODUCER: UNDEFINED
PRODUCTION_SYSTEM: GIS/MAGIC
COMPRESSION: UNDEFINED
STANDARD_VERSION: 1996 12
METADATA_DATE: 1999 06 02
DATA_FILE_SIZE: 44178672
BYTE_COUNT: 5736
