FILENAME: O4510720.NWS.1008795.tif
QUADRANGLE_NAME: HARDIN
QUADRANT: NW
WEST_LONGITUDE: -107 37 30.00000
EAST_LONGITUDE: -107 33 45.00000
NORTH_LATITUDE: 45 45 0.00000
SOUTH_LATITUDE: 45 41 15.00000
PRODUCTION_DATE: 1999 4 23
RASTER_ORDER: LEFT_RIGHT/TOP_BOTTOM
BAND_ORGANIZATION: SINGLE FILE
BAND_CONTENT: BLACK&WHITE
BAND_CONTENT: UNDEFINED
BAND_CONTENT: UNDEFINED
BITS_PER_PIXEL: 8
SAMPLES_AND_LINES: 5742 7705
HORIZONTAL_DATUM: NAD83
HORIZONTAL_COORDINATE_SYSTEM: UTM
COORDINATE_ZONE: 13
HORIZONTAL_UNITS: METERS
HORIZONTAL_RESOLUTION: 1.00000
SECONDARY_HORIZONTAL_DATUM: NAD27
XY_ORIGIN: 295249.00000 5069923.00000
SECONDARY_XY_ORIGIN: 295292.94600 5069706.06200
NATION: US
NATION: "SCIENCE
STATE: MT
NW_QUAD_CORNER_XY: 295828.48400 5069622.73000
NE_QUAD_CORNER_XY: 300689.62800 5069464.99100
SE_QUAD_CORNERY_XY: 300467.15000 5062521.32200
SW_QUAD_CORNER_XY: 295600.57300 5062679.07000
SECONDARY_NW_QUAD_XY: 295822.35700 5069405.03400
SECONDARY_NE_QUAD_XY: 300683.64700 5069247.29000
SECONDARY_SE_QUAD_XY: 300461.17100 5062303.66700
SECONDARY_SW_QUAD_XY: 295594.44700 5062461.41900
RMSE_XY: 0.90000
IMAGE_SOURCE: BLACK AND WHITE FILM
SOURCE_IMAGE_ID: NAPP 9135 115
SOURCE_IMAGE_DATE: 1996 08 19
SOURCE_IMAGE_ID: NAPP 9135 162
SOURCE_IMAGE_DATE: 1996 08 19
SOURCE_IMAGE_ID: NAPP 9135 113
SOURCE_IMAGE_DATE: 1996 08 19
SOURCE_IMAGE_ID: NAPP 9135 068
SOURCE_IMAGE_DATE: 1996 08 19
SOURCE_DEM_DATE: 1980 00 00
AGENCY: WESTERN MAPPING CENTER (WMC)
PRODUCER: UNDEFINED
PRODUCTION_SYSTEM: GIS/MAGIC
COMPRESSION: UNDEFINED
STANDARD_VERSION: 1996 12
METADATA_DATE: 1999 06 02
DATA_FILE_SIZE: 44247852
BYTE_COUNT: 5742
