FILENAME: O4510720.SWS.1008797.tif
QUADRANGLE_NAME: HARDIN
QUADRANT: SW
WEST_LONGITUDE: -107 37 30.00000
EAST_LONGITUDE: -107 33 45.00000
NORTH_LATITUDE: 45 41 15.00000
SOUTH_LATITUDE: 45 37 30.00000
PRODUCTION_DATE: 1999 4 23
RASTER_ORDER: LEFT_RIGHT/TOP_BOTTOM
BAND_ORGANIZATION: SINGLE FILE
BAND_CONTENT: BLACK&WHITE
BAND_CONTENT: UNDEFINED
BAND_CONTENT: UNDEFINED
BITS_PER_PIXEL: 8
SAMPLES_AND_LINES: 5748 7706
HORIZONTAL_DATUM: NAD83
HORIZONTAL_COORDINATE_SYSTEM: UTM
COORDINATE_ZONE: 13
HORIZONTAL_UNITS: METERS
HORIZONTAL_RESOLUTION: 1.00000
SECONDARY_HORIZONTAL_DATUM: NAD27
XY_ORIGIN: 295021.00000 5062980.00000
SECONDARY_XY_ORIGIN: 295065.21300 5062763.44800
NATION: US
NATION: "SCIENCE
STATE: MT
NW_QUAD_CORNER_XY: 295600.57300 5062679.07000
NE_QUAD_CORNER_XY: 300467.15000 5062521.32200
SE_QUAD_CORNERY_XY: 300244.91100 5055577.71500
SW_QUAD_CORNER_XY: 295372.90600 5055735.47000
SECONDARY_NW_QUAD_XY: 295594.44700 5062461.41900
SECONDARY_NE_QUAD_XY: 300461.17100 5062303.66700
SECONDARY_SE_QUAD_XY: 300238.93300 5055360.10600
SECONDARY_SW_QUAD_XY: 295366.78200 5055517.86600
RMSE_XY: 1.60000
IMAGE_SOURCE: BLACK AND WHITE FILM
SOURCE_IMAGE_ID: NAPP 9135 113
SOURCE_IMAGE_DATE: 1996 08 19
SOURCE_IMAGE_ID: NAPP 9135 162
SOURCE_IMAGE_DATE: 1996 08 19
SOURCE_IMAGE_ID: NAPP 9135 114
SOURCE_IMAGE_DATE: 1996 08 19
SOURCE_IMAGE_ID: NAPP 9135 070
SOURCE_IMAGE_DATE: 1996 08 19
SOURCE_DEM_DATE: 1980 00 00
AGENCY: WESTERN MAPPING CENTER (WMC)
PRODUCER: UNDEFINED
PRODUCTION_SYSTEM: GIS/MAGIC
COMPRESSION: UNDEFINED
STANDARD_VERSION: 1996 12
METADATA_DATE: 1999 06 02
DATA_FILE_SIZE: 44299836
BYTE_COUNT: 5748
